BEGIN:VCALENDAR
VERSION:2.0
PRODID:-//Huntsville Museum of Art - ECPv6.12.0//NONSGML v1.0//EN
CALSCALE:GREGORIAN
METHOD:PUBLISH
X-WR-CALNAME:Huntsville Museum of Art
X-ORIGINAL-URL:https://hsvmuseum.org
X-WR-CALDESC:Events for Huntsville Museum of Art
REFRESH-INTERVAL;VALUE=DURATION:PT1H
X-Robots-Tag:noindex
X-PUBLISHED-TTL:PT1H
BEGIN:VTIMEZONE
TZID:UTC
BEGIN:STANDARD
TZOFFSETFROM:+0000
TZOFFSETTO:+0000
TZNAME:UTC
DTSTART:20220101T000000
END:STANDARD
END:VTIMEZONE
BEGIN:VEVENT
DTSTART;TZID=UTC:20221105T090000
DTEND;TZID=UTC:20221105T160000
DTSTAMP:20260420T143311
CREATED:20220811T150533Z
LAST-MODIFIED:20220811T150533Z
UID:13856-1667638800-1667664000@hsvmuseum.org
SUMMARY:Master Artist Workshop with Sara Beth Fair
DESCRIPTION:Painting with Light\, Color & Joy\nSkill Level: All \nFriday\, November 4 &  Saturday\, November 5\, 2022 from 9 a.m. to 4 p.m. \nMembers: $325 | Non-Members: $350 \nRegister for workshop here! \n\n\nSara Beth Fair\, Summer Still Life in the Afternoon\, 2017\, oil on canvas \n\n\nFill your oil paintings with light and color learning how to SEE\, MIX\, and EXPRESS COLOR seamlessly. Open to all levels of artist who want to master the fundamentals of painting. Instructional work is designed for each experience level. \nJoin Sara Beth and learn the secrets of color and light by creating color charts to take home and use in your studio\, creating multiple reference studies to apply the secrets and finally completing a beautiful still life painting. Demos\, a slide presentation\, and critiques included. \nArtist and educator painting for 17 years. In addition\, she has a Ph.D. in optics and hence a technical as well as artistic understanding of light and color. She has taught multiple classes around the country and exhibited in galleries throughout the southeast. Her artistic training has come from independent studies of the masters\, plein air painting of nature\, along with tutelage from contemporary masters. She spent three years studying with Murat Kaboulov\, a Russian Impressionist\, along with several students of the great Russian artist Serge Bongart. Her style reflects her love for the Russian Impressionists use of color and large brushwork. For more information\, visit sarabethfair.com.
URL:https://hsvmuseum.org/eventcalendar/master-artist-workshop-with-sara-beth-fair-2022-11-05/
LOCATION:Huntsville Museum of Art\, 300 Church Street S.W.\, Huntsville\, AL\, 35801\, United States
CATEGORIES:Academy Classes,Master Artist Workshop
END:VEVENT
BEGIN:VEVENT
DTSTART;TZID=UTC:20221105T110000
DTEND;TZID=UTC:20221105T134500
DTSTAMP:20260420T143311
CREATED:20220803T200204Z
LAST-MODIFIED:20220803T200204Z
UID:13525-1667646000-1667655900@hsvmuseum.org
SUMMARY:CREATE Saturdays: Imaginary Dragons
DESCRIPTION:CREATE Saturdays\nSaturday\, November 5 | 11 a.m. & 1 p.m.\nFREE\nFamilies and children are invited to participate in a range of programs especially designed with younger visitors in mind. CREATE Saturdays offer fun\, interactive art making activities for families with children ages 3 and up that will sure to spark one’s creativity! Children under 12 must be accompanied by an adult. There will be two sessions\, one at 11 a.m. and one at 1 p.m. with each session lasting 45 minutes. \nReservations will be required on a first come\, first-served basis. Each participant – parent/guardian and child – must be registered prior to program date. Space is limited! \n\n \nCREATE Saturdays\nSelect Saturdays at 11:00 a.m. and 1:00 p.m. \nReservations will be required on a first come\, first-served basis. Space is limited. Register now! \nFREE admission for parents/guardians and children \nThe art activities program will be held in the Stender Family Interactive Education Galleries. \nSaturday\, November 5: Imaginary Dragons \nView the Donato Giancola: Adventures in Imagination exhibition. Create an imaginary dragon hand puppet with art papers\, glue and other materials for embellishment. \nREGISTER NOW\n\nProudly Supported by:
URL:https://hsvmuseum.org/eventcalendar/create-saturdays-imaginary-dragons/
LOCATION:Huntsville Museum of Art\, 300 Church Street S.W.\, Huntsville\, AL\, 35801\, United States
CATEGORIES:Academy Classes,CREATE Saturday
END:VEVENT
END:VCALENDAR