BEGIN:VCALENDAR
VERSION:2.0
PRODID:-//Huntsville Museum of Art - ECPv6.12.0//NONSGML v1.0//EN
CALSCALE:GREGORIAN
METHOD:PUBLISH
X-ORIGINAL-URL:https://hsvmuseum.org
X-WR-CALDESC:Events for Huntsville Museum of Art
REFRESH-INTERVAL;VALUE=DURATION:PT1H
X-Robots-Tag:noindex
X-PUBLISHED-TTL:PT1H
BEGIN:VTIMEZONE
TZID:UTC
BEGIN:STANDARD
TZOFFSETFROM:+0000
TZOFFSETTO:+0000
TZNAME:UTC
DTSTART:20220101T000000
END:STANDARD
END:VTIMEZONE
BEGIN:VEVENT
DTSTART;TZID=UTC:20221117T170000
DTEND;TZID=UTC:20221117T200000
DTSTAMP:20260421T142852
CREATED:20220804T175242Z
LAST-MODIFIED:20221028T145439Z
UID:13537-1668704400-1668715200@hsvmuseum.org
SUMMARY:$5 After 5 Cosplay Night
DESCRIPTION:$5 After 5 Cosplay Night\nThursday\, November 17 | 5 p.m. – 8 p.m.\nMembers: Free | Non-Members: $5\nEnjoy $5 admission on Thursdays from 5 p.m. – 8 p.m. at the Huntsville Museum of Art. Explore the Museum’s latest exhibitions or visit favorites from the Museum collection during this after-hours event. Wine service has returned. Guests aged 21+ will be able to purchase a glass of wine from the Church Street Wine Shoppe for $7. \nThursday\, November 17 is Cosplay Night! Suit up as your favorite cosplay character and listen to themed music from the Huntsville Symphony Ensemble as you view Donato Giancola: Adventures in Imagination. Register for a costume contest with exclusive prizes\, open for all ages. \nRead cosplay costume rules here. \nRegister for the contest here. \nCosplay Night Sponsor:
URL:https://hsvmuseum.org/eventcalendar/5-after-5-cosplay-night/
LOCATION:Huntsville Museum of Art\, 300 Church Street S.W.\, Huntsville\, AL\, 35801\, United States
CATEGORIES:$5 After 5
ATTACH;FMTTYPE=image/jpeg:https://hsvmuseum.org/wp-content/uploads/2021/12/StarWarsGalaxies-publishing-scaled.jpg
END:VEVENT
END:VCALENDAR