BEGIN:VCALENDAR
VERSION:2.0
PRODID:-//Huntsville Museum of Art - ECPv6.12.0//NONSGML v1.0//EN
CALSCALE:GREGORIAN
METHOD:PUBLISH
X-WR-CALNAME:Huntsville Museum of Art
X-ORIGINAL-URL:https://hsvmuseum.org
X-WR-CALDESC:Events for Huntsville Museum of Art
REFRESH-INTERVAL;VALUE=DURATION:PT1H
X-Robots-Tag:noindex
X-PUBLISHED-TTL:PT1H
BEGIN:VTIMEZONE
TZID:UTC
BEGIN:STANDARD
TZOFFSETFROM:+0000
TZOFFSETTO:+0000
TZNAME:UTC
DTSTART:20230101T000000
END:STANDARD
END:VTIMEZONE
BEGIN:VEVENT
DTSTART;VALUE=DATE:20230529
DTEND;VALUE=DATE:20230530
DTSTAMP:20260421T002935
CREATED:20230522T212619Z
LAST-MODIFIED:20230522T212619Z
UID:16445-1685318400-1685404799@hsvmuseum.org
SUMMARY:Museum is closed for Memorial Day
DESCRIPTION:The Huntsville Museum of Art will be closed for Memorial Day. The museum will resume normal operation hours on Tuesday. We apologize for the inconvenience and appreciate your understanding.
URL:https://hsvmuseum.org/eventcalendar/museum-is-closed-for-memorial-day-2/
LOCATION:AL
END:VEVENT
END:VCALENDAR