BEGIN:VCALENDAR
VERSION:2.0
PRODID:-//Huntsville Museum of Art - ECPv6.12.0//NONSGML v1.0//EN
CALSCALE:GREGORIAN
METHOD:PUBLISH
X-ORIGINAL-URL:https://hsvmuseum.org
X-WR-CALDESC:Events for Huntsville Museum of Art
REFRESH-INTERVAL;VALUE=DURATION:PT1H
X-Robots-Tag:noindex
X-PUBLISHED-TTL:PT1H
BEGIN:VTIMEZONE
TZID:UTC
BEGIN:STANDARD
TZOFFSETFROM:+0000
TZOFFSETTO:+0000
TZNAME:UTC
DTSTART:20230101T000000
END:STANDARD
END:VTIMEZONE
BEGIN:VEVENT
DTSTART;TZID=UTC:20230609T090000
DTEND;TZID=UTC:20230609T120000
DTSTAMP:20260421T003157
CREATED:20230407T191528Z
LAST-MODIFIED:20230407T191528Z
UID:16088-1686301200-1686312000@hsvmuseum.org
SUMMARY:Summer Grades K-8 Classes – Mixed Media Drawing: Ages 9-14
DESCRIPTION:Mixed Media Drawing: Ages 9-14\nJune 5\, 7\, 9 (Monday\, Wednesday\, Friday) | 9 a.m. – 12 p.m.\nS. Renee Prasil\nMembers: $90 | Non-Members: $130\nREGISTER FOR CLASS\nIn this class\, you will develop the observational skills needed to draw. You’ll use both black and white and color as you learn to draw objects that look three-dimensional\, with shadows\, textures and in interesting compositions. Media include graphite\, charcoal\, pastel\, and marker.
URL:https://hsvmuseum.org/eventcalendar/summer-grades-k-8-classes-mixed-media-drawing-ages-9-14-2023-06-09/
LOCATION:Huntsville Museum of Art\, 300 Church Street S.W.\, Huntsville\, AL\, 35801\, United States
CATEGORIES:Academy Classes
END:VEVENT
BEGIN:VEVENT
DTSTART;TZID=UTC:20230609T100000
DTEND;TZID=UTC:20230609T110000
DTSTAMP:20260421T003157
CREATED:20230404T205527Z
LAST-MODIFIED:20230404T205527Z
UID:15971-1686304800-1686308400@hsvmuseum.org
SUMMARY:Preschool Classes: Art Sampler: Ages 4-5
DESCRIPTION:Art Sampler: Ages 4-5 (Pre-K)\nJune 5\, 7\, 9 (Monday\, Wednesday\, Friday) | 10 – 11 a.m. \nMembers: $45 | Non-Members: $95 \nInstructor: Anna Sue Courtney \nREGISTER FOR CLASS \nStudents explore various art media from drawing\, painting and sculpting. Media include oil pastel\, paint\, and wood.
URL:https://hsvmuseum.org/eventcalendar/preschool-classes-art-sampler-ages-4-5-2-2023-06-09/
LOCATION:Huntsville Museum of Art\, 300 Church Street S.W.\, Huntsville\, AL\, 35801\, United States
CATEGORIES:Academy Classes
END:VEVENT
BEGIN:VEVENT
DTSTART;TZID=UTC:20230609T110000
DTEND;TZID=UTC:20230609T134500
DTSTAMP:20260421T003157
CREATED:20230419T173608Z
LAST-MODIFIED:20230426T190347Z
UID:16267-1686308400-1686318300@hsvmuseum.org
SUMMARY:Artsy Tots: Pattern Fish
DESCRIPTION:Artsy Tots!\nAges 2 – 3\n\nPattern Fish\nFriday\, June 9 | 11 – 11:45 a.m. and 1 – 1:45 p.m.\nFREE\nREGISTER NOW \n\n\n\nArtsy Tots will introduce toddlers between the ages of 2 and 3 to art and to the museum through artful short stories\, gallery play activities\, and an art activity. The program helps with color recognition\, fine motor skills\, hand-eye coordination and more! \nArtsy Tots classes are held on one Friday a month from 11-11:45 a.m. and 1-1:45 p.m. Class size is limited to 8 children and registration is required. Each class will have a unique theme. A parent/guardian is required to be present during the session. Dress for a mess! \nSponsored in part by:
URL:https://hsvmuseum.org/eventcalendar/artsy-tots-pattern-fish/
LOCATION:Huntsville Museum of Art\, 300 Church Street S.W.\, Huntsville\, AL\, 35801\, United States
CATEGORIES:Academy Classes,Artsy Tots!
END:VEVENT
END:VCALENDAR