BEGIN:VCALENDAR
VERSION:2.0
PRODID:-//Huntsville Museum of Art - ECPv6.12.0//NONSGML v1.0//EN
CALSCALE:GREGORIAN
METHOD:PUBLISH
X-WR-CALNAME:Huntsville Museum of Art
X-ORIGINAL-URL:https://hsvmuseum.org
X-WR-CALDESC:Events for Huntsville Museum of Art
REFRESH-INTERVAL;VALUE=DURATION:PT1H
X-Robots-Tag:noindex
X-PUBLISHED-TTL:PT1H
BEGIN:VTIMEZONE
TZID:UTC
BEGIN:STANDARD
TZOFFSETFROM:+0000
TZOFFSETTO:+0000
TZNAME:UTC
DTSTART:20230101T000000
END:STANDARD
END:VTIMEZONE
BEGIN:VEVENT
DTSTART;TZID=UTC:20230616T090000
DTEND;TZID=UTC:20230616T120000
DTSTAMP:20260420T211426
CREATED:20230407T191913Z
LAST-MODIFIED:20230407T191913Z
UID:16095-1686906000-1686916800@hsvmuseum.org
SUMMARY:Summer Grades K-8 Classes – Creativity\, Color & Composition: Ages 5-8
DESCRIPTION:Creativity\, Color & Composition: Ages 5-8\nJune 12\, 14\, 16 (Monday\, Wednesday\, Friday) | 9 a.m. – 12 p.m.\nJehanna Branch\nMembers: $90 | Non-Members: $130\nREGISTER FOR CLASS\nPainting? Drawing? Collage? Learn and explore the elements and principles of design through a variety of mixed media techniques. Imagination is key in developing your own artistic style. Media include pastel\, colored pencil\, watercolor\, and tempera.
URL:https://hsvmuseum.org/eventcalendar/summer-grades-k-8-classes-creativity-color-composition-ages-5-8-3-2023-06-16/
LOCATION:Huntsville Museum of Art\, 300 Church Street S.W.\, Huntsville\, AL\, 35801\, United States
CATEGORIES:Academy Classes
END:VEVENT
BEGIN:VEVENT
DTSTART;TZID=UTC:20230616T100000
DTEND;TZID=UTC:20230616T110000
DTSTAMP:20260420T211426
CREATED:20230404T212845Z
LAST-MODIFIED:20230404T212845Z
UID:15978-1686909600-1686913200@hsvmuseum.org
SUMMARY:Preschool Classes: Sparkle\, Glitter & Glow: Ages 4-5
DESCRIPTION:Sparkle\, Glitter & Glow: Ages 4-5\nJune 12\, 14\, 16 (Monday\, Wednesday\, Friday) | 10 – 11 a.m. \nMembers: $45 | Non-Members: $95 \nInstructor: Ashton Huffstetler \nREGISTER FOR CLASS \nCreate all kinds of bright and shiny paintings and 3-D art using a variety of sparkling and reflective materials. Learn about color and light while making stunning eye-catching art.
URL:https://hsvmuseum.org/eventcalendar/preschool-classes-sparkle-glitter-glow-ages-4-5-2-2023-06-16/
LOCATION:Huntsville Museum of Art\, 300 Church Street S.W.\, Huntsville\, AL\, 35801\, United States
CATEGORIES:Academy Classes
END:VEVENT
END:VCALENDAR