BEGIN:VCALENDAR
VERSION:2.0
PRODID:-//Huntsville Museum of Art - ECPv6.12.0//NONSGML v1.0//EN
CALSCALE:GREGORIAN
METHOD:PUBLISH
X-ORIGINAL-URL:https://hsvmuseum.org
X-WR-CALDESC:Events for Huntsville Museum of Art
REFRESH-INTERVAL;VALUE=DURATION:PT1H
X-Robots-Tag:noindex
X-PUBLISHED-TTL:PT1H
BEGIN:VTIMEZONE
TZID:UTC
BEGIN:STANDARD
TZOFFSETFROM:+0000
TZOFFSETTO:+0000
TZNAME:UTC
DTSTART:20230101T000000
END:STANDARD
END:VTIMEZONE
BEGIN:VEVENT
DTSTART;TZID=UTC:20230724T130000
DTEND;TZID=UTC:20230728T160000
DTSTAMP:20260425T124445
CREATED:20230711T185557Z
LAST-MODIFIED:20230711T185557Z
UID:16543-1690203600-1690560000@hsvmuseum.org
SUMMARY:Summer Grades K-8 Camps – SCULPTacular Camp II
DESCRIPTION:SCULPTacular Camp\nJuly 24-28 (Monday-Friday) | 1 – 4 p.m.\nCamp I: Ages 5 – 7 (SOLD OUT) | Camp II: Ages 5 – 9\nSara Bowen | Jessica Nunno\nMembers: $175 | Non-Members: $275\nExplore techniques for constructing sculptures with a variety of fun materials while exploring the basic elements of art: color\, form\, line\, shape\, space\, texture\, and value. Proportion and balance will be addressed through the construction process for the purpose of creating unique finished pieces. Build\, draw and paint kinetic abstract constructions and fantastical creatures. Media include air-dry clay\, foamboard\, wood\, wire\, paint\, markers\, and other materials for embellishment.
URL:https://hsvmuseum.org/eventcalendar/summer-grades-k-8-camps-sculptacular-camp-ii/
LOCATION:Huntsville Museum of Art\, 300 Church Street S.W.\, Huntsville\, AL\, 35801\, United States
CATEGORIES:Academy Classes
END:VEVENT
BEGIN:VEVENT
DTSTART;TZID=UTC:20230725T090000
DTEND;TZID=UTC:20230725T120000
DTSTAMP:20260425T124445
CREATED:20230407T191252Z
LAST-MODIFIED:20230407T191252Z
UID:16082-1690275600-1690286400@hsvmuseum.org
SUMMARY:Summer Grades K-8 Camps – SCULPTacular Camp
DESCRIPTION:SCULPTacular Camp\nJuly 24-28 (Monday-Friday) | 9 a.m. – 12 p.m.\nCamp I: Ages 5 – 7 | Camp II: Ages 8 – 10 (Sold Out)\nAnna Sue Courtney | Jessica Nunno\nMembers: $175 | Non-Members: $275\n\n\nExplore techniques for constructing sculptures with a variety of fun materials while exploring the basic elements of art: color\, form\, line\, shape\, space\, texture\, and value. Proportion and balance will be addressed through the construction process for the purpose of creating unique finished pieces. Build\, draw and paint kinetic abstract constructions and fantastical creatures. Media include air-dry clay\, foamboard\, wood\, wire\, paint\, markers\, and other materials for embellishment.
URL:https://hsvmuseum.org/eventcalendar/summer-grades-k-8-camps-sculptacular-camp-2023-07-25/
LOCATION:Huntsville Museum of Art\, 300 Church Street S.W.\, Huntsville\, AL\, 35801\, United States
CATEGORIES:Academy Classes
END:VEVENT
BEGIN:VEVENT
DTSTART;TZID=UTC:20230725T180000
DTEND;TZID=UTC:20230725T200000
DTSTAMP:20260425T124445
CREATED:20230405T212016Z
LAST-MODIFIED:20230405T213203Z
UID:16034-1690308000-1690315200@hsvmuseum.org
SUMMARY:High School and Adult Classes – Paint Like an Impressionist: Techniques in Acrylic or Oil
DESCRIPTION:Paint Like an Impressionist: Techniques in Acrylic or Oil\nJuly 25\, August 1\, 8\, 15\, 22\, 29 (6 Tuesdays) | 6-8 p.m.\nMembers: $155 | Non-Members: $210\nSkill Level: All\nGayle Power\nREGISTER FOR CLASS\nExplore the techniques to capture the light\, color\, texture and feeling of the outdoors. Enjoy learning new methods and the effects of painting with a palette knife and brush. Learn how to create the exciting vibration of color and texture. Students will follow a sequential application of paint\, explore color combinations\, mixing techniques and work in an Impressionistic style. Photo references will be provided. Subject matter will include still life and landscape. Space is limited to 8 students.
URL:https://hsvmuseum.org/eventcalendar/high-school-and-adult-classes-paint-like-an-impressionist-techniques-in-acrylic-or-oil-2/
LOCATION:Huntsville Museum of Art\, 300 Church Street S.W.\, Huntsville\, AL\, 35801\, United States
CATEGORIES:Academy Classes
END:VEVENT
BEGIN:VEVENT
DTSTART;TZID=UTC:20230725T180000
DTEND;TZID=UTC:20230725T200000
DTSTAMP:20260425T124445
CREATED:20230405T212150Z
LAST-MODIFIED:20230405T212150Z
UID:16040-1690308000-1690315200@hsvmuseum.org
SUMMARY:High School and Adult Classes – Ceramics: Wheel Throwing
DESCRIPTION:Ceramics: Wheel Throwing\nJuly 25\, August 1\, 8\, 15\, 22\, 29 (6 Tuesdays) | 6-8 p.m.\nMembers: $230 | Non-Members: $285\nSkill Level: All\nDavid Edwards\nREGISTER FOR CLASS\nThis is a beginning class for students that are interested in learning the fundamentals of wheel throwing. We’ll glaze our pieces\, too! Instructor demonstrations included. Space is limited to 8 students.
URL:https://hsvmuseum.org/eventcalendar/high-school-and-adult-classes-ceramics-wheel-throwing-5/
LOCATION:Huntsville Museum of Art\, 300 Church Street S.W.\, Huntsville\, AL\, 35801\, United States
CATEGORIES:Academy Classes
END:VEVENT
END:VCALENDAR