BEGIN:VCALENDAR
VERSION:2.0
PRODID:-//Huntsville Museum of Art - ECPv6.12.0//NONSGML v1.0//EN
CALSCALE:GREGORIAN
METHOD:PUBLISH
X-ORIGINAL-URL:https://hsvmuseum.org
X-WR-CALDESC:Events for Huntsville Museum of Art
REFRESH-INTERVAL;VALUE=DURATION:PT1H
X-Robots-Tag:noindex
X-PUBLISHED-TTL:PT1H
BEGIN:VTIMEZONE
TZID:UTC
BEGIN:STANDARD
TZOFFSETFROM:+0000
TZOFFSETTO:+0000
TZNAME:UTC
DTSTART:20230101T000000
END:STANDARD
END:VTIMEZONE
BEGIN:VEVENT
DTSTART;TZID=UTC:20230804T100000
DTEND;TZID=UTC:20230804T160000
DTSTAMP:20260421T104905
CREATED:20230405T212503Z
LAST-MODIFIED:20230405T212503Z
UID:16053-1691143200-1691164800@hsvmuseum.org
SUMMARY:High School and Adult Classes – Acrylics: Still Life Painting
DESCRIPTION:Acrylics: Still Life Painting\nAugust 4 & 5 (Friday & Saturday) | 10 a.m.-4 p.m. (one-hour lunch break)\nMembers: $155 | Non-Members: $210\nSkill Level: Beginner to Advanced\nLucy Thomas\nREGISTER FOR CLASS\nLearn various techniques of acrylic painting\, including negative shape painting\, to create floral and still life as a foundation for your personal style and form of expression. Ways to achieve a more loose and less detailed style\, color theory and composition also included. Students work from still-life set-ups and from imagination. Space is limited to 8 students.
URL:https://hsvmuseum.org/eventcalendar/high-school-and-adult-classes-acrylics-still-life-painting-4/
LOCATION:Huntsville Museum of Art\, 300 Church Street S.W.\, Huntsville\, AL\, 35801\, United States
CATEGORIES:Academy Classes
END:VEVENT
END:VCALENDAR