BEGIN:VCALENDAR
VERSION:2.0
PRODID:-//Huntsville Museum of Art - ECPv6.12.0//NONSGML v1.0//EN
CALSCALE:GREGORIAN
METHOD:PUBLISH
X-ORIGINAL-URL:https://hsvmuseum.org
X-WR-CALDESC:Events for Huntsville Museum of Art
REFRESH-INTERVAL;VALUE=DURATION:PT1H
X-Robots-Tag:noindex
X-PUBLISHED-TTL:PT1H
BEGIN:VTIMEZONE
TZID:UTC
BEGIN:STANDARD
TZOFFSETFROM:+0000
TZOFFSETTO:+0000
TZNAME:UTC
DTSTART:20230101T000000
END:STANDARD
END:VTIMEZONE
BEGIN:VEVENT
DTSTART;TZID=UTC:20230820T090000
DTEND;TZID=UTC:20230820T160000
DTSTAMP:20260425T153407
CREATED:20221205T182125Z
LAST-MODIFIED:20221205T182125Z
UID:14747-1692522000-1692547200@hsvmuseum.org
SUMMARY:Master Artist Workshop with Qiang Huang
DESCRIPTION:Painting the Figure in the Landscape\nSkill Level: All \nThursday\, August 17 – Sunday\, August 20\, 2023\, from 9 a.m. to 4 p.m. \nMembers: $600 | Non-Members: $650 \nRegister for workshop here! \n\n\nQiang Huang\, Roping\, 2022\, oil on canvas \n\nWith this workshop\, Qiang will introduce his approaches of adding figures into landscape paintings in oil. In general\, painting the figure is much harder than other subject matter. Painters need to have adequate amount of training in anatomy\, proportion\, perspective\, and skin tones to be able manage subtle variations in human forms. However\, in landscapes\, figures are suggested rather than literally painted. The workshop will emphasize on how to get the correct proportion of human forms into a landscape environment. He will introduce visual tools to make figure painting much easier. Qiang will also demonstrate his general strategies of landscape painting. The students will create storytelling paintings in an expressive style. Reference photographs will be used during the workshop. Qiang Huang (pronounced as Chong Wong) was born and raised in Beijing\, China and now lives in Austin\, Texas. He has studied art from multiple master artists like David Leffel and Sherrie McGraw. His paintings show remarkable accuracy and expressive brush strokes. Since 2004 his paintings have been selected continuously for the 14th\, 15th\, 16th and 18th Oil Painters of America’s National Juried Exhibitions. American Artist Magazine has featured his teaching on the summer issue of the Workshop. For more information\, visit qhart.com.
URL:https://hsvmuseum.org/eventcalendar/master-artist-workshop-with-qiang-huang-2-2023-08-20/
LOCATION:Huntsville Museum of Art\, 300 Church Street S.W.\, Huntsville\, AL\, 35801\, United States
CATEGORIES:Academy Classes,Master Artist Workshop
END:VEVENT
BEGIN:VEVENT
DTSTART;TZID=UTC:20230820T140000
DTEND;TZID=UTC:20230820T153000
DTSTAMP:20260425T153407
CREATED:20230425T193751Z
LAST-MODIFIED:20230811T162202Z
UID:16295-1692540000-1692545400@hsvmuseum.org
SUMMARY:Art Demonstration with Terry Naughton
DESCRIPTION:Art Demonstration with Terry Naughton\n\nSunday\, August 20 | 2 – 3:30 p.m.\nMembers: Free | Non-Members: Included with admission \nPhoto Courtesy: Terry Naughton\, Rocket and Roll\, oil on canvas © 2023 \nIllustrator and animator Terry Naughton will give a painting demonstration on Sunday\, August 20 from 2 to 3:30 p.m. Viewing the demonstration is free for Museum members or included with admission for Non-Members. \nAbout Terry Naughton: \nNaughton\, now a freelance illustrator\, is a former animator with Walt Disney Studios. He was with Disney for 17 years and worked on almost every feature film produced from 1985 to 2022. Some of his credits include the Beast in Beauty and the Beast\, the Genie from Aladdin\, and Zazu in The Lion King\, among others. Throughout his career at Disney\, he maintained his freelance work. He illustrated Peter Mayhew’s (Chewbacca) children’s book\, My Favorite Giant. He worked on projects with the NFL such as book illustrations\, sculpted sports action figures and storyboards\, as well as some motion picture work for Warner Bros. He won the Gold\, Silver and Bronze awards in the prestigious PNW International Art Show two years in a row.
URL:https://hsvmuseum.org/eventcalendar/art-demonstration-terry-naughton/
LOCATION:Huntsville Museum of Art\, 300 Church Street S.W.\, Huntsville\, AL\, 35801\, United States
ATTACH;FMTTYPE=image/jpeg:https://hsvmuseum.org/wp-content/uploads/2023/04/Terry-Painting-Artemis-scaled.jpg
END:VEVENT
END:VCALENDAR