BEGIN:VCALENDAR
VERSION:2.0
PRODID:-//Huntsville Museum of Art - ECPv6.12.0//NONSGML v1.0//EN
CALSCALE:GREGORIAN
METHOD:PUBLISH
X-WR-CALNAME:Huntsville Museum of Art
X-ORIGINAL-URL:https://hsvmuseum.org
X-WR-CALDESC:Events for Huntsville Museum of Art
REFRESH-INTERVAL;VALUE=DURATION:PT1H
X-Robots-Tag:noindex
X-PUBLISHED-TTL:PT1H
BEGIN:VTIMEZONE
TZID:UTC
BEGIN:STANDARD
TZOFFSETFROM:+0000
TZOFFSETTO:+0000
TZNAME:UTC
DTSTART:20230101T000000
END:STANDARD
END:VTIMEZONE
BEGIN:VEVENT
DTSTART;TZID=UTC:20230824T170000
DTEND;TZID=UTC:20230824T200000
DTSTAMP:20260423T134808
CREATED:20230419T173146Z
LAST-MODIFIED:20230605T215629Z
UID:16261-1692896400-1692907200@hsvmuseum.org
SUMMARY:$5 After 5 with Taylor Burton
DESCRIPTION:$5 After 5\nThursdays | 5 p.m. – 8 p.m.\nMembers: Free | Non-Members: $5\nEnjoy $5 admission on Thursdays from 5 p.m. – 8 p.m. at the Huntsville Museum of Art. Explore the Museum’s latest exhibitions or visit favorites from the Museum collection during this after-hours event. Wine service has returned. Guests aged 21+ will be able to purchase a glass of wine from the Church Street Wine Shoppe for $7. At 6 p.m.\, Taylor Burton will perform in the galleries. \nAbout Taylor Burton: \nTaylor Burton is a singer-songwriter\, guitarist and lead singer of local Americana/”y’allternative” group The Silver Silos. Originally from Augusta\, GA\, and now living in Madison\, Taylor\, a freelance graphic designer\, has been playing music semi-professionally since 2002. He has shared the stage with Caitlin Cary (Whiskeytown)\, Paleface (The Avett Brothers)\, The Alternative Champs (HBO’s The Righteous Gemstones) and many others\, including local favorites Remy Neal\, Matt Prater\, Josh Allison\, Hunter Copeland\, Ally Free\, and the late Bobby Blount.  Founded in 2017\, The Silver Silos currently have three singles: “Daniel Day Lewis\,” “Headline News\,” and “Continental.” Taylor released his solo album Old North State in 2004. His bandmates include Jacob and Brad Greene of Athens\, AL\, and often Huntsville’s Alan Little.
URL:https://hsvmuseum.org/eventcalendar/5-after-5-8/
LOCATION:Huntsville Museum of Art\, 300 Church Street S.W.\, Huntsville\, AL\, 35801\, United States
CATEGORIES:$5 After 5
ATTACH;FMTTYPE=image/jpeg:https://hsvmuseum.org/wp-content/uploads/2023/04/taylorburton.jpg
END:VEVENT
BEGIN:VEVENT
DTSTART;TZID=UTC:20230824T180000
DTEND;TZID=UTC:20230824T203000
DTSTAMP:20260423T134808
CREATED:20230405T211815Z
LAST-MODIFIED:20230405T211815Z
UID:16033-1692900000-1692909000@hsvmuseum.org
SUMMARY:High School and Adult Classes – Watercolor Sketching: Portraits
DESCRIPTION:Watercolor Sketching: Portraits\nJuly 20\, 27\, August 3\, 10\, 17\, 24 (6 Thursdays) | 6-8:30 p.m.\nMembers: $180 | Non-Members: $235\n$35 material fee (If you have not taken a prior watercolor painting class with Jennifer Redstreake\, you will need to select registration with material fee.)\nSkill Level: All\nJennifer Redstreake\nREGISTER FOR CLASS\nWatercolor sketching refers to any watercolor work that’s completed quickly\, with a loose\, informal style. It’s often used as a “warm up” for a bigger\, more detailed painting\, but it’s also a great practice for any on-the-go artist. This small-scale\, loose sketching approach is all about quick observation and capturing what you see on paper. Materials included. Space is limited to 8 students.
URL:https://hsvmuseum.org/eventcalendar/high-school-and-adult-classes-watercolor-sketching-portraits-2023-08-24/
LOCATION:Huntsville Museum of Art\, 300 Church Street S.W.\, Huntsville\, AL\, 35801\, United States
CATEGORIES:Academy Classes
END:VEVENT
BEGIN:VEVENT
DTSTART;TZID=UTC:20230824T180000
DTEND;TZID=UTC:20230824T203000
DTSTAMP:20260423T134808
CREATED:20230405T212330Z
LAST-MODIFIED:20230405T212330Z
UID:16049-1692900000-1692909000@hsvmuseum.org
SUMMARY:High School and Adult Classes – Ceramics: Wheel Throwing & Beyond
DESCRIPTION:Ceramics: Wheel Throwing & Beyond\nAugust 3\, 10\, 17\, 24\, 31\, September 7\, 14 (7 Thursdays) | 6-8:30 p.m.\nMembers: $240 | Non-Members: $295\nSkill Level: All\nGreg Datcher\nREGISTER FOR CLASS\nStudents will learn to use the potter’s wheel to make beautiful and useful clay pots. Simple forms\, such as bowls and cups will be explored\, as well as more complex forms\, such as lidded jars and pouring vessels. Space is limited to 8 students.
URL:https://hsvmuseum.org/eventcalendar/high-school-and-adult-classes-ceramics-wheel-throwing-beyond-3-2023-08-24/
LOCATION:Huntsville Museum of Art\, 300 Church Street S.W.\, Huntsville\, AL\, 35801\, United States
CATEGORIES:Academy Classes
END:VEVENT
END:VCALENDAR