BEGIN:VCALENDAR
VERSION:2.0
PRODID:-//Huntsville Museum of Art - ECPv6.12.0//NONSGML v1.0//EN
CALSCALE:GREGORIAN
METHOD:PUBLISH
X-ORIGINAL-URL:https://hsvmuseum.org
X-WR-CALDESC:Events for Huntsville Museum of Art
REFRESH-INTERVAL;VALUE=DURATION:PT1H
X-Robots-Tag:noindex
X-PUBLISHED-TTL:PT1H
BEGIN:VTIMEZONE
TZID:UTC
BEGIN:STANDARD
TZOFFSETFROM:+0000
TZOFFSETTO:+0000
TZNAME:UTC
DTSTART:20230101T000000
END:STANDARD
END:VTIMEZONE
BEGIN:VEVENT
DTSTART;TZID=UTC:20231028T100000
DTEND;TZID=UTC:20231028T120000
DTSTAMP:20260423T152612
CREATED:20230804T204525Z
LAST-MODIFIED:20230804T204525Z
UID:16771-1698487200-1698494400@hsvmuseum.org
SUMMARY:Saturday Classes for Parent & Child – Art & Technology: Imaginative Flowers! Ages 5+
DESCRIPTION:Art & Technology: Imaginative Flowers! Ages 5+\nSaturday\, October 28 | 10 a.m. – 12 p.m.\nAdult & Child: Members: $35 | Non-Members: $45\nStudent Only: Members: $30 | Non-Members: $40\nEducation Staff\nRegister here! \nCreate an original work inspired by Ginny Ruffner: Reforestation of the Imagination exhibition using a watercolor and other materials for embellishment.
URL:https://hsvmuseum.org/eventcalendar/saturday-classes-for-parent-child-art-technology-imaginative-flowers-ages-5/
LOCATION:Huntsville Museum of Art\, 300 Church Street S.W.\, Huntsville\, AL\, 35801\, United States
CATEGORIES:Academy Classes
END:VEVENT
BEGIN:VEVENT
DTSTART;TZID=UTC:20231028T100000
DTEND;TZID=UTC:20231028T130000
DTSTAMP:20260423T152612
CREATED:20230807T181848Z
LAST-MODIFIED:20230807T181848Z
UID:16852-1698487200-1698498000@hsvmuseum.org
SUMMARY:High School and Adult Classes – Fantastic Florals
DESCRIPTION:Fantastic Florals\nOctober 21 & 28 (2 Saturdays) | 10 a.m.-1 p.m.\nMembers: $85 | Non-Members: $140\nSkill Level: All\nS. Renee Prasil\nREGISTER FOR CLASS\nLearn the methods of pastel painting while exploring the still-life genre. Discover the value\, warm and cool relationships\, and color as well as methods for self-correction and problem solving. Explore the Ginny Ruffner: Reforestation of the Imagination exhibition. Space is limited to 10 students. Click Here for Supply List.
URL:https://hsvmuseum.org/eventcalendar/high-school-and-adult-classes-fantastic-florals-2023-10-28/
LOCATION:Huntsville Museum of Art\, 300 Church Street S.W.\, Huntsville\, AL\, 35801\, United States
CATEGORIES:Academy Classes
END:VEVENT
END:VCALENDAR