BEGIN:VCALENDAR
VERSION:2.0
PRODID:-//Huntsville Museum of Art - ECPv6.12.0//NONSGML v1.0//EN
CALSCALE:GREGORIAN
METHOD:PUBLISH
X-ORIGINAL-URL:https://hsvmuseum.org
X-WR-CALDESC:Events for Huntsville Museum of Art
REFRESH-INTERVAL;VALUE=DURATION:PT1H
X-Robots-Tag:noindex
X-PUBLISHED-TTL:PT1H
BEGIN:VTIMEZONE
TZID:UTC
BEGIN:STANDARD
TZOFFSETFROM:+0000
TZOFFSETTO:+0000
TZNAME:UTC
DTSTART:20230101T000000
END:STANDARD
END:VTIMEZONE
BEGIN:VEVENT
DTSTART;TZID=UTC:20231031T103000
DTEND;TZID=UTC:20231031T120000
DTSTAMP:20260421T175745
CREATED:20230804T201101Z
LAST-MODIFIED:20230804T201101Z
UID:16760-1698748200-1698753600@hsvmuseum.org
SUMMARY:Art for Homeschooled Students – Mixed Media\, Ages 9-13
DESCRIPTION:The Artist’s Studio! Mixed Media – Ages 5-8\nSeptember 19\, 26\, October 10\, 17\, 24\, 31 (6 Tuesdays) | 10:30 a.m. – 12 p.m.\n$95 Members | $135 Non-Members\nAnna Sue Courtney\nRegister here! \nNow in its 28th year\, the art program introduces different media and techniques (clay\, graphite\, colored pencil\, marker\, and pastel) – into the homeschool curriculum. We’ll take Museum gallery visits to be inspired by different works of art – still life and landscapes as related to exhibitions. Winter Ceramics Session for Homeschooled classes will be offered in January and February 2024. \nSpace is limited to 12 students per class. The Education department will provide structure\, fun\, and friends in a safe\, stimulating environment. Museum gallery visits included for inspiration. All materials are provided for the children’s classes. All New Projects!
URL:https://hsvmuseum.org/eventcalendar/art-for-homeschooled-students-mixed-media-ages-9-13-2023-10-31/
LOCATION:Huntsville Museum of Art\, 300 Church Street S.W.\, Huntsville\, AL\, 35801\, United States
CATEGORIES:Academy Classes
END:VEVENT
BEGIN:VEVENT
DTSTART;TZID=UTC:20231031T154500
DTEND;TZID=UTC:20231031T164500
DTSTAMP:20260421T175745
CREATED:20230804T213547Z
LAST-MODIFIED:20230804T213547Z
UID:16786-1698767100-1698770700@hsvmuseum.org
SUMMARY:Preschool Classes: Fall into Art! Ages 4-5
DESCRIPTION:Fall into Art! Ages 4-5\nSeptember 19\, 26\, October 10\, 24\, November 7\, 14 (6 Tuesdays) | 3:45-4:45 p.m. \nMembers: $80 | Non-Members: $120 \nInstructor: Ashton Huffstetler \nREGISTER FOR CLASS \nExplore an adventure in colors\, shapes\, and materials. Media include clay\, paint\, art tissue\, and more.
URL:https://hsvmuseum.org/eventcalendar/preschool-classes-fall-into-art-ages-4-5-2-2023-10-31/
LOCATION:Huntsville Museum of Art\, 300 Church Street S.W.\, Huntsville\, AL\, 35801\, United States
CATEGORIES:Academy Classes
END:VEVENT
END:VCALENDAR