BEGIN:VCALENDAR
VERSION:2.0
PRODID:-//Huntsville Museum of Art - ECPv6.12.0//NONSGML v1.0//EN
CALSCALE:GREGORIAN
METHOD:PUBLISH
X-WR-CALNAME:Huntsville Museum of Art
X-ORIGINAL-URL:https://hsvmuseum.org
X-WR-CALDESC:Events for Huntsville Museum of Art
REFRESH-INTERVAL;VALUE=DURATION:PT1H
X-Robots-Tag:noindex
X-PUBLISHED-TTL:PT1H
BEGIN:VTIMEZONE
TZID:UTC
BEGIN:STANDARD
TZOFFSETFROM:+0000
TZOFFSETTO:+0000
TZNAME:UTC
DTSTART:20230101T000000
END:STANDARD
END:VTIMEZONE
BEGIN:VEVENT
DTSTART;TZID=UTC:20231108T154500
DTEND;TZID=UTC:20231108T171500
DTSTAMP:20260420T211433
CREATED:20230804T180029Z
LAST-MODIFIED:20230804T180635Z
UID:16727-1699458300-1699463700@hsvmuseum.org
SUMMARY:After School Classes – Easel Painting\, Ages 8+
DESCRIPTION:Easel Painting\, Ages 8+\nSeptember 20\, 27\, October 11\, 25\, November 1\, 8 (6 Wednesdays) | 3:45 – 5:15 p.m.\n$95 Members | $135 Non-members\nAshton Huffstetler\nRegister Here! \nLearn about color mixing\, paint application\, composition\, and proportion. Subject matter will include animals\, still life\, landscapes and more! Media include acrylic\, tempera\, and watercolor.
URL:https://hsvmuseum.org/eventcalendar/after-school-classes-easel-painting-ages-8-2023-11-08/
LOCATION:Huntsville Museum of Art\, 300 Church Street S.W.\, Huntsville\, AL\, 35801\, United States
CATEGORIES:Academy Classes
END:VEVENT
END:VCALENDAR