BEGIN:VCALENDAR
VERSION:2.0
PRODID:-//Huntsville Museum of Art - ECPv6.12.0//NONSGML v1.0//EN
CALSCALE:GREGORIAN
METHOD:PUBLISH
X-ORIGINAL-URL:https://hsvmuseum.org
X-WR-CALDESC:Events for Huntsville Museum of Art
REFRESH-INTERVAL;VALUE=DURATION:PT1H
X-Robots-Tag:noindex
X-PUBLISHED-TTL:PT1H
BEGIN:VTIMEZONE
TZID:UTC
BEGIN:STANDARD
TZOFFSETFROM:+0000
TZOFFSETTO:+0000
TZNAME:UTC
DTSTART:20230101T000000
END:STANDARD
END:VTIMEZONE
BEGIN:VEVENT
DTSTART;TZID=UTC:20231109T170000
DTEND;TZID=UTC:20231109T200000
DTSTAMP:20260421T145427
CREATED:20230804T171312Z
LAST-MODIFIED:20230804T171312Z
UID:16682-1699549200-1699560000@hsvmuseum.org
SUMMARY:No $5 After 5
DESCRIPTION:No $5 After 5\nThere will not be a $5 After 5 event tonight due to the Lecture & Preview Party with Curator Jeffrey Forgeng for The Age of Armor: Treasures from the Huggins Armory Collection at the Worcester Art Museum. We apologize for the inconvenience and hope you will consider visiting for the next $5 After 5.
URL:https://hsvmuseum.org/eventcalendar/no-5-after-5-7/
LOCATION:AL
CATEGORIES:$5 After 5
ATTACH;FMTTYPE=image/png:https://hsvmuseum.org/wp-content/uploads/2022/02/5-x-4-15.png
END:VEVENT
BEGIN:VEVENT
DTSTART;TZID=UTC:20231109T180000
DTEND;TZID=UTC:20231109T200000
DTSTAMP:20260421T145427
CREATED:20230621T165000Z
LAST-MODIFIED:20230621T165036Z
UID:16504-1699552800-1699560000@hsvmuseum.org
SUMMARY:Lecture & Preview Party for The Age of Armor: Treasures from the Higgins Armory Collection at the Worcester Art Museum
DESCRIPTION:Lecture & Preview Party with Jeffrey Forgeng for The Age of Armor: Treasures from the Higgins Armory Collection at the Worcester Art Museum\n\nThursday\, November 9 | 6 – 8 p.m.\nEnjoy an exclusive first look at The Age of Armor: Treasures from the Higgins Armory Collection at the Worcester Art Museum before it opens to the public. Jeffrey Forgeng\, Curator of Arms and Armor and Medieval Art at the Worcester Art Museum\, will lead the event with a lecture. \nFrom the warriors of ancient Greek legends\, to the knights of the Middle Ages\, to the superheroes of today’s popular culture\, the idea of personal body armor has an enduring hold on the human imagination. Armor is as old as human civilization\, and has been used in various forms in societies around the globe\, but full suits of articulated steel plates were made only in Europe\, and only for a brief time in the late Middle Ages and Renaissance. This exhibition explores the story of armor in its golden age. \nSuits of armor are among the most popular objects with museumgoers\, but there are few significant collections of armor in the Americas. In 2014\, the Worcester Art Museum acquired the Higgins Armory Collection. While most of this rare collection is in storage awaiting the creation of a dedicated arms and armor gallery\, there is a unique opportunity to share these objects with a national and international public. Visitors will discover the diverse and often surprising stories embedded in these powerful objects. Far from the ungainly exoskeleton we often imagine today\, the suit of armor was made to be sleek and stylish—painstakingly engineered\, elegantly designed\, and treasured as the expression of its owner’s taste\, sophistication\, and prowess. \nThis exhibition was organized by the Worcester Art Museum.
URL:https://hsvmuseum.org/eventcalendar/lecture-preview-party-for-the-age-of-armor-treasures-from-the-higgins-armory-collection-at-the-worcester-art-museum/
LOCATION:Huntsville Museum of Art\, 300 Church Street S.W.\, Huntsville\, AL\, 35801\, United States
CATEGORIES:Exhibition Opening,Exhibition Preview Party,Exhibition Program
ATTACH;FMTTYPE=image/jpeg:https://hsvmuseum.org/wp-content/uploads/2023/06/Jeffrey-Forgeng-headshot-scaled-e1687366132578.jpg
END:VEVENT
BEGIN:VEVENT
DTSTART;TZID=UTC:20231109T180000
DTEND;TZID=UTC:20231109T200000
DTSTAMP:20260421T145427
CREATED:20230807T181030Z
LAST-MODIFIED:20230807T181030Z
UID:16835-1699552800-1699560000@hsvmuseum.org
SUMMARY:High School and Adult Classes – Oil Painting Techniques: Art of the Horse
DESCRIPTION:Oil Painting Techniques: Art of the Horse\nSeptember 21\, 28\, October 5\, 12\, 19\, 26\, November 2\, 9 (8 Thursdays) | 6-8 p.m.\nMembers: $200 | Non-Members: $255\nSkill Level: All\nJennifer Redstreake\nREGISTER FOR CLASS\nExplore and celebrate the art of painting our majestic horses through gesture and proportions in oils by working from photographs. Color mixing and achieving a likeness is emphasized. Instructor demonstrations included. Photo references will be provided. Space is limited to 10 students. Click Here for Supply List.
URL:https://hsvmuseum.org/eventcalendar/high-school-and-adult-classes-oil-painting-techniques-art-of-the-horse-2023-11-09/
LOCATION:Huntsville Museum of Art\, 300 Church Street S.W.\, Huntsville\, AL\, 35801\, United States
CATEGORIES:Academy Classes
END:VEVENT
BEGIN:VEVENT
DTSTART;TZID=UTC:20231109T180000
DTEND;TZID=UTC:20231109T203000
DTSTAMP:20260421T145427
CREATED:20230807T181240Z
LAST-MODIFIED:20230807T181240Z
UID:16842-1699552800-1699561800@hsvmuseum.org
SUMMARY:High School and Adult Classes – Ceramics: Handbuilding & Wheel Throwing
DESCRIPTION:Ceramics: Handbuilding & Wheel Throwing\nSeptember 21\, 28\, October 12\, 19\, 26\, November 2\, 9\, 16 (8 Thursdays) | 6-8:30 p.m.\nMembers: $250 | Non-Members: $305\nSkill Level: All\nGreg Datcher\nREGISTER FOR CLASS\nExplore the use of glazes\, slips and sculpting techniques to create expressive and individual works\, such as mugs and vessel forms. Space is limited to 8 students. Click Here for Supply List.
URL:https://hsvmuseum.org/eventcalendar/high-school-and-adult-classes-ceramics-handbuilding-wheel-throwing-12-2023-11-09/
LOCATION:Huntsville Museum of Art\, 300 Church Street S.W.\, Huntsville\, AL\, 35801\, United States
CATEGORIES:Academy Classes
END:VEVENT
END:VCALENDAR