BEGIN:VCALENDAR
VERSION:2.0
PRODID:-//Huntsville Museum of Art - ECPv6.12.0//NONSGML v1.0//EN
CALSCALE:GREGORIAN
METHOD:PUBLISH
X-ORIGINAL-URL:https://hsvmuseum.org
X-WR-CALDESC:Events for Huntsville Museum of Art
REFRESH-INTERVAL;VALUE=DURATION:PT1H
X-Robots-Tag:noindex
X-PUBLISHED-TTL:PT1H
BEGIN:VTIMEZONE
TZID:UTC
BEGIN:STANDARD
TZOFFSETFROM:+0000
TZOFFSETTO:+0000
TZNAME:UTC
DTSTART:20230101T000000
END:STANDARD
END:VTIMEZONE
BEGIN:VEVENT
DTSTART;TZID=UTC:20231114T154500
DTEND;TZID=UTC:20231114T164500
DTSTAMP:20260421T123546
CREATED:20230804T213547Z
LAST-MODIFIED:20230804T213547Z
UID:16788-1699976700-1699980300@hsvmuseum.org
SUMMARY:Preschool Classes: Fall into Art! Ages 4-5
DESCRIPTION:Fall into Art! Ages 4-5\nSeptember 19\, 26\, October 10\, 24\, November 7\, 14 (6 Tuesdays) | 3:45-4:45 p.m. \nMembers: $80 | Non-Members: $120 \nInstructor: Ashton Huffstetler \nREGISTER FOR CLASS \nExplore an adventure in colors\, shapes\, and materials. Media include clay\, paint\, art tissue\, and more.
URL:https://hsvmuseum.org/eventcalendar/preschool-classes-fall-into-art-ages-4-5-2-2023-11-14/
LOCATION:Huntsville Museum of Art\, 300 Church Street S.W.\, Huntsville\, AL\, 35801\, United States
CATEGORIES:Academy Classes
END:VEVENT
BEGIN:VEVENT
DTSTART;TZID=UTC:20231114T180000
DTEND;TZID=UTC:20231114T200000
DTSTAMP:20260421T123546
CREATED:20230807T181717Z
LAST-MODIFIED:20230807T181717Z
UID:16850-1699984800-1699992000@hsvmuseum.org
SUMMARY:High School and Adult Classes – Expressive Portrait Drawing in Charcoal & Conté
DESCRIPTION:Expressive Portrait Drawing in Charcoal & Conté\nOctober 17\, 24\, November 7\, 14 (4 Tuesdays) | 6-8 p.m.\nMembers: $100 | Non-Members: $155\nSkill Level: All\nSara Beth Fair\nREGISTER FOR CLASS\nExpand your skills and learn to draw the portrait! Charcoal and conté are fast\, expressive and forgiving media\, perfect for exploring and learning about the face and head. The concepts and techniques used for charcoal and conté drawing go hand in hand with painting. Your painting skills will greatly benefit from your practice of drawing the portrait in charcoal​ and pencil. Reference photographs will be provided. Space is limited to 8 students. Click Here for Supply List.
URL:https://hsvmuseum.org/eventcalendar/high-school-and-adult-classes-expressive-portrait-drawing-in-charcoal-conte-3-2023-11-14/
LOCATION:Huntsville Museum of Art\, 300 Church Street S.W.\, Huntsville\, AL\, 35801\, United States
CATEGORIES:Academy Classes
END:VEVENT
END:VCALENDAR