BEGIN:VCALENDAR
VERSION:2.0
PRODID:-//Huntsville Museum of Art - ECPv6.12.0//NONSGML v1.0//EN
CALSCALE:GREGORIAN
METHOD:PUBLISH
X-ORIGINAL-URL:https://hsvmuseum.org
X-WR-CALDESC:Events for Huntsville Museum of Art
REFRESH-INTERVAL;VALUE=DURATION:PT1H
X-Robots-Tag:noindex
X-PUBLISHED-TTL:PT1H
BEGIN:VTIMEZONE
TZID:UTC
BEGIN:STANDARD
TZOFFSETFROM:+0000
TZOFFSETTO:+0000
TZNAME:UTC
DTSTART:20230101T000000
END:STANDARD
END:VTIMEZONE
BEGIN:VEVENT
DTSTART;TZID=UTC:20231128T173000
DTEND;TZID=UTC:20231128T210000
DTSTAMP:20260420T143513
CREATED:20231027T192723Z
LAST-MODIFIED:20231027T192723Z
UID:17028-1701192600-1701205200@hsvmuseum.org
SUMMARY:DESE Research Family Night: Skating Fun for Everyone!
DESCRIPTION:🎉 Exciting News! 🎉 DESE Research is hosting a Family Night at SIP on Tuesday\, November 28th\, from 5:30-9PM! Bring your family for a fantastic time. Skaters receive free skate rentals and enjoy a $5 discount! ⛸️ Don’t miss this fun-filled evening!
URL:https://hsvmuseum.org/eventcalendar/dese-research-family-night-skating-fun-for-everyone/
LOCATION:AL
CATEGORIES:Skating in the Park
ATTACH;FMTTYPE=image/png:https://hsvmuseum.org/wp-content/uploads/2023/10/Family-Night.png
END:VEVENT
END:VCALENDAR