BEGIN:VCALENDAR
VERSION:2.0
PRODID:-//Huntsville Museum of Art - ECPv6.12.0//NONSGML v1.0//EN
CALSCALE:GREGORIAN
METHOD:PUBLISH
X-ORIGINAL-URL:https://hsvmuseum.org
X-WR-CALDESC:Events for Huntsville Museum of Art
REFRESH-INTERVAL;VALUE=DURATION:PT1H
X-Robots-Tag:noindex
X-PUBLISHED-TTL:PT1H
BEGIN:VTIMEZONE
TZID:UTC
BEGIN:STANDARD
TZOFFSETFROM:+0000
TZOFFSETTO:+0000
TZNAME:UTC
DTSTART:20240101T000000
END:STANDARD
END:VTIMEZONE
BEGIN:VEVENT
DTSTART;VALUE=DATE:20240418
DTEND;VALUE=DATE:20240419
DTSTAMP:20260422T133323
CREATED:20240212T221538Z
LAST-MODIFIED:20240212T221538Z
UID:17824-1713398400-1713484799@hsvmuseum.org
SUMMARY:No $5 After 5
DESCRIPTION:There will not be a $5 After 5 event tonight due to Voices of Our Times. \nWe apologize for the inconvenience and hope you will consider visiting for the next $5 After 5.
URL:https://hsvmuseum.org/eventcalendar/no-5-after-5-11/
LOCATION:AL
CATEGORIES:$5 After 5
ATTACH;FMTTYPE=image/png:https://hsvmuseum.org/wp-content/uploads/2024/02/No-5A5-Tonight-2.png
END:VEVENT
BEGIN:VEVENT
DTSTART;TZID=UTC:20240418T173000
DTEND;TZID=UTC:20240418T183000
DTSTAMP:20260422T133323
CREATED:20240417T191148Z
LAST-MODIFIED:20240417T191148Z
UID:18000-1713461400-1713465000@hsvmuseum.org
SUMMARY:VOICES: Retired Staff Sergeant Clinton Romesha and Lt. Gen. Pillsbury
DESCRIPTION:
URL:https://hsvmuseum.org/eventcalendar/voices-retired-staff-sergeant-clinton-romesha-and-lt-gen-pillsbury/
LOCATION:AL
CATEGORIES:Arts & Entertainment
END:VEVENT
BEGIN:VEVENT
DTSTART;TZID=UTC:20240418T173000
DTEND;TZID=UTC:20240418T200000
DTSTAMP:20260422T133323
CREATED:20240305T190144Z
LAST-MODIFIED:20240305T190144Z
UID:17888-1713461400-1713470400@hsvmuseum.org
SUMMARY:Lecture and Discussion with Retired Staff Sergeant Clinton Romesha\, a Medal of Honor Recipient
DESCRIPTION:Join us on April 18\, 2024\, as we welcome Retired Staff Sergeant Clinton Romesha\, a Medal of Honor Recipient in a conversation with Lieutenant General Jim Pillsbury\, USA (Ret.)\, for an inspiring evening. Experience his incredible journey and heroic actions at Combat Outpost Keating in Afghanistan on October 3\, 2009. \n5:30 PM • Cocktails\n6:30 PM • Lecture and Discussion\n7:30 • PM Dinner in Loretta Spencer Hall\n*Tickets are available for purchase for Members on March 5th\, 2024\, and for Non-Members\, March 26th. \nThe Battle of Kamdesh stands as one of the bloodiest battles of the entire Afghan War and Staff Sergeant Clinton Romesha (known as “Ro” by his comrades) is the author of the book Red Platoon: A True Story of American Valor as well as collaborated and portrayed in the Netflix documentary series\, Medal of Honor\, in Season 1/Episode 2. It lasted 14 hours and cost eight American lives while the Taliban suffered an estimated 150 killed. Twenty-seven more American warriors were wounded. Romesha deployed twice to Iraq in support of Operation Iraqi Freedom\, and once to Afghanistan in support of Operation Enduring Freedom. \nRomesha received the Medal of Honor for conspicuous gallantry and intrepidity in action at the risk of his life above and beyond the call of duty while serving as a Section Leader with Bravo Troop\, during combat operations against an armed enemy at Combat Outpost Keating in Afghanistan on October 3\, 2009. On that morning\, Staff Sergeant Romesha and his comrades awakened to an attack by an estimated 300 enemy fighters occupying the high ground on all four sides of the complex\, employing concentrated fire from recoilless rifles\, rocket propelled grenades\, anti-aircraft machine guns\, mortars and small arms fire.
URL:https://hsvmuseum.org/eventcalendar/lecture-and-discussion-with-retired-staff-sergeant-clinton-romesha-a-medal-of-honor-recipient/
LOCATION:AL
CATEGORIES:Voices of Our Times
ATTACH;FMTTYPE=image/png:https://hsvmuseum.org/wp-content/uploads/2024/03/Collectors-Story-Preview-Party.png
END:VEVENT
END:VCALENDAR