BEGIN:VCALENDAR
VERSION:2.0
PRODID:-//Huntsville Museum of Art - ECPv6.12.0//NONSGML v1.0//EN
CALSCALE:GREGORIAN
METHOD:PUBLISH
X-ORIGINAL-URL:https://hsvmuseum.org
X-WR-CALDESC:Events for Huntsville Museum of Art
REFRESH-INTERVAL;VALUE=DURATION:PT1H
X-Robots-Tag:noindex
X-PUBLISHED-TTL:PT1H
BEGIN:VTIMEZONE
TZID:UTC
BEGIN:STANDARD
TZOFFSETFROM:+0000
TZOFFSETTO:+0000
TZNAME:UTC
DTSTART:20250101T000000
END:STANDARD
END:VTIMEZONE
BEGIN:VEVENT
DTSTART;TZID=UTC:20250112T080000
DTEND;TZID=UTC:20250112T170000
DTSTAMP:20260421T153934
CREATED:20241231T151010Z
LAST-MODIFIED:20241231T151010Z
UID:21120-1736668800-1736701200@hsvmuseum.org
SUMMARY:Clearly Indigenous: Native Visions Reimagined in Glass\, CLOSING DAY
DESCRIPTION:Clearly Indigenous: Native Visions Reimagined in Glass\, CLOSING DAY
URL:https://hsvmuseum.org/eventcalendar/clearly-indigenous-native-visions-reimagined-in-glass-closing-day/
LOCATION:Huntsville Museum of Art\, 300 Church Street S.W.\, Huntsville\, AL\, 35801\, United States
CATEGORIES:Exhibition Closing
ATTACH;FMTTYPE=image/jpeg:https://hsvmuseum.org/wp-content/uploads/2024/10/30.-Preston-Singletary-Raven-Steals-the-Sun-2017-scaled-1.jpg
END:VEVENT
BEGIN:VEVENT
DTSTART;TZID=UTC:20250112T140000
DTEND;TZID=UTC:20250112T150000
DTSTAMP:20260421T153934
CREATED:20241231T151603Z
LAST-MODIFIED:20241231T151625Z
UID:21121-1736690400-1736694000@hsvmuseum.org
SUMMARY:Docent-Led Public Tour: "Clearly Indigenous: Native Visions Reimagined in Glass"
DESCRIPTION:Docent-Led Public Tour: Clearly Indigenous: Native Visions Reimagined in Glass \nJanuary 12\, 2025 @ 2:00 pm – 3:00 pm \nJoin us for a Guided Docent-Led Tour. Enhance your museum experience with our engaging docent-led tours. \nLed by knowledgeable guides\, these tours offer insightful perspectives on our exhibitions\, providing enriching context and highlighting key artworks. \nMeeting Location: Gather at the designated meeting point in the museum lobby. \nPricing: Docent-led tours are included with museum admission. Check our website or inquire at the front desk for current admission rates. \nTour Details: Delve deeper into the art on display as our docents share fascinating stories\, offer historical background\, and encourage discussions. Whether you’re a seasoned art enthusiast or a first-time visitor\, our tours offer something for everyone.
URL:https://hsvmuseum.org/eventcalendar/docent-led-public-tour-clearly-indigenous-native-visions-reimagined-in-glass-2/
LOCATION:Huntsville Museum of Art\, 300 Church Street S.W.\, Huntsville\, AL\, 35801\, United States
CATEGORIES:Exhibition Closing,Tours
ATTACH;FMTTYPE=image/jpeg:https://hsvmuseum.org/wp-content/uploads/2024/10/30.-Preston-Singletary-Raven-Steals-the-Sun-2017-scaled-1.jpg
END:VEVENT
END:VCALENDAR