BEGIN:VCALENDAR
VERSION:2.0
PRODID:-//Huntsville Museum of Art - ECPv6.12.0//NONSGML v1.0//EN
CALSCALE:GREGORIAN
METHOD:PUBLISH
X-WR-CALNAME:Huntsville Museum of Art
X-ORIGINAL-URL:https://hsvmuseum.org
X-WR-CALDESC:Events for Huntsville Museum of Art
REFRESH-INTERVAL;VALUE=DURATION:PT1H
X-Robots-Tag:noindex
X-PUBLISHED-TTL:PT1H
BEGIN:VTIMEZONE
TZID:UTC
BEGIN:STANDARD
TZOFFSETFROM:+0000
TZOFFSETTO:+0000
TZNAME:UTC
DTSTART:20250101T000000
END:STANDARD
END:VTIMEZONE
BEGIN:VEVENT
DTSTART;VALUE=DATE:20250223
DTEND;VALUE=DATE:20250228
DTSTAMP:20260425T123847
CREATED:20250129T170414Z
LAST-MODIFIED:20250129T170450Z
UID:23065-1740268800-1740700799@hsvmuseum.org
SUMMARY:Youth Art Month
DESCRIPTION:Youth Art Month is observed nationally each March to emphasize the value of art education for children and to encourage public support for quality school art programs. It is hosted each year in Huntsville by The Huntsville Museum of Art’s Museum Academy. Youth Art Month also provides a forum for recognizing skills developed through visual arts experiences that are not possible in other curriculum subjects. Youth Art Month is endorsed by The National Art Education Association\, Alabama Art Education Association\, Alabama State Department of Education\, Alabama Arts Alliance and locally the Huntsville-Madison County Art Education Association. \n  \nJoin us February 23-27\, 2025 as we view the art of our youth! \n  \n\n	\n\n\n			\n		\n			\n														\n				\n	\n\n														Youth Art Month: February 23-27\, 2025\n			\n														\n								\n													\n				\n																		\n						Gallery					\n														\n		\n												\n					\n						Youth Art Month: February 23-27\, 2025					\n				\n			\n										2025 Exhibition					\n		\n						\n	\n\n\n\n			\n			\n																																																																				\n	\n	Youth Art Month: February 23-27\, 2025 View the VAA 2025: Visual Arts Achievement Program\, 2025 [...] By Communications Department|2025-03-12T17:57:44+00:00October 23rd\, 2024|Categories: 2025 Exhibition|Tags: YAM 25|0 CommentsRead More
URL:https://hsvmuseum.org/eventcalendar/youth-art-month/
LOCATION:Huntsville Museum of Art\, 300 Church Street S.W.\, Huntsville\, AL\, 35801\, United States
CATEGORIES:Arts & Entertainment
ATTACH;FMTTYPE=image/jpeg:https://hsvmuseum.org/wp-content/uploads/2025/01/HMA-81-YAM-Portico-2022-8x8-1.jpg
END:VEVENT
END:VCALENDAR