BEGIN:VCALENDAR
VERSION:2.0
PRODID:-//Huntsville Museum of Art - ECPv6.12.0//NONSGML v1.0//EN
CALSCALE:GREGORIAN
METHOD:PUBLISH
X-WR-CALNAME:Huntsville Museum of Art
X-ORIGINAL-URL:https://hsvmuseum.org
X-WR-CALDESC:Events for Huntsville Museum of Art
REFRESH-INTERVAL;VALUE=DURATION:PT1H
X-Robots-Tag:noindex
X-PUBLISHED-TTL:PT1H
BEGIN:VTIMEZONE
TZID:UTC
BEGIN:STANDARD
TZOFFSETFROM:+0000
TZOFFSETTO:+0000
TZNAME:UTC
DTSTART:20240101T000000
END:STANDARD
END:VTIMEZONE
BEGIN:VEVENT
DTSTART;TZID=UTC:20240801T170000
DTEND;TZID=UTC:20240801T200000
DTSTAMP:20260424T023226
CREATED:20240703T172218Z
LAST-MODIFIED:20240704T230132Z
UID:18170-1722531600-1722542400@hsvmuseum.org
SUMMARY:$5 After 5 PM
DESCRIPTION:
URL:https://hsvmuseum.org/eventcalendar/5-after-5-pm-5/
LOCATION:AL
CATEGORIES:$5 After 5,Arts & Entertainment
END:VEVENT
BEGIN:VEVENT
DTSTART;TZID=UTC:20240808T170000
DTEND;TZID=UTC:20240808T200000
DTSTAMP:20260424T023226
CREATED:20240703T172221Z
LAST-MODIFIED:20240808T141816Z
UID:18171-1723136400-1723147200@hsvmuseum.org
SUMMARY:$5 After 5 PM - Prevailing Winds Flute Ensemble
DESCRIPTION:August 8thWine 5 p.m. – 8 p.m.Special Musical Performances start at 5:15 p.m:Prevailing Winds Flute Ensemble &Flying on Instruments Jazz Ensemble(performing in the Great Hall)Thursday | 5 p.m. – 8 p.m.Members: Free | Non-Members: $5\n\nEnjoy $5 admission on Thursdays from 5 p.m. – 8 p.m. at the Huntsville Museum of Art. Explore the Museum’s latest exhibitions or visit favorites from the Museum collection during this after-hours event. Guests aged 21+ will be able to purchase a glass of wine from the Church Street Wine Shoppe. Special Musical Performances start at 5:15 p.m with Prevailing Winds Flute Ensemble & Flying on Instruments Jazz Ensemble performing in the Great Hall.Prevailing Winds Flute Ensemble: A community flute choir from the Huntsville-Madison-Tennessee Valley area. They perform using all members of the flute family – piccolo\, flute\, alto flute\, bass flute\, and contrabass flute (the only one in Huntsville!). This community group has been together for over 15 years. They are an inclusive\, all-volunteer organization that performs locally for public events as well as paid private events. The members range from college students to retirees and include both students and many professional musicians.
URL:https://hsvmuseum.org/eventcalendar/5-after-5-pm-6/
LOCATION:AL
CATEGORIES:$5 After 5,Arts & Entertainment
ATTACH;FMTTYPE=image/jpeg:https://hsvmuseum.org/wp-content/uploads/2024/07/preail-winds-non-holiday-picture.jpg
END:VEVENT
BEGIN:VEVENT
DTSTART;TZID=UTC:20240815T170000
DTEND;TZID=UTC:20240815T200000
DTSTAMP:20260424T023226
CREATED:20240703T172222Z
LAST-MODIFIED:20240815T163609Z
UID:18172-1723741200-1723752000@hsvmuseum.org
SUMMARY:$5 After 5 P.M. Shane Davis
DESCRIPTION:Thursday\, August 22\nShane Davis\n(performing in Shields Gallery at 6 p.m.)\nWine 5 p.m. – 8 p.m.\nMembers: Free | Non-members: $5Join us for a relaxing Thursday evening at the Huntsville Museum of Art! Enjoy $5 admission from 5 p.m. to 8 p.m.\, and explore the latest exhibitions or revisit your favorite pieces from our permanent collection. \n\n Wine: Guests aged 21+ can purchase a glass of wine selected by Church Street Wine Shoppe\, adding the perfect touch to your museum experience.\n Live Music: At 6 p.m. \nShane Davis is a singer-songwriter hailing from Huntsville AL. For the past few years he has been the guitar player in Huntsville based rock group Black Market Salesmen. He has worked with Grammy nominated musician/producer Joey Huffman. Shane opened for artists such as Loretta Lynn and Crystal Gayle and was featured in international magazines Relix and Classic Rock. In 2020 Shane got a few friends together to work on solo material and recorded his self-titled album. Since then they have been performing as the Shane Davis Group. Shane’s music has been compared to Neil Young\, Ryan Adams\, Townes Van Sandt and The Grateful Dead.
URL:https://hsvmuseum.org/eventcalendar/5-after-5-pm-7/
LOCATION:AL
CATEGORIES:$5 After 5,Arts & Entertainment
ATTACH;FMTTYPE=image/jpeg:https://hsvmuseum.org/wp-content/uploads/2024/07/5882_image_446618523_778280897746233_5419447340394938831_n.jpg
END:VEVENT
BEGIN:VEVENT
DTSTART;TZID=UTC:20240822T170000
DTEND;TZID=UTC:20240822T200000
DTSTAMP:20260424T023226
CREATED:20240703T172223Z
LAST-MODIFIED:20240815T150448Z
UID:18173-1724346000-1724356800@hsvmuseum.org
SUMMARY:$5 After 5 P.M. Diana Lucas
DESCRIPTION:Thursday\, August 22\nDiana Lucas\n(performing in Shields Gallery at 6 p.m.)Wine 5 p.m. – 8 p.m.\nMembers: Free | Non-members: $5 \n\nJoin us for a relaxing Thursday evening at the Huntsville Museum of Art! Enjoy $5 admission from 5 p.m. to 8 p.m.\, and explore the latest exhibitions or revisit your favorite pieces from our permanent collection.\n Wine: Guests aged 21+ can purchase a glass of wine selected by Church Street Wine Shoppe\, adding the perfect touch to your museum experience.\n Live Music: At 6 p.m. \nDiana Lucas: A dramatic coloratura soprano who has sung at the National Cathedral in Washington DC andhas sung the Star Spangled Banner at many sports stadiums and classical venues. She also was a full Main Stage\nperformer in Harold Group with The Second City Los Angeles Main Stage Santa Monica. She has been cast\nrecently in the recurring role of Superior Court Judge Grace Winslow in the Nashville series Murder on Music\nRow. Diana lives in Huntsville\, Alabama with her husband and two children and loves singing for the museum\nwhen she is not being a docent on tours.
URL:https://hsvmuseum.org/eventcalendar/5-after-5-pm-8/
LOCATION:AL
CATEGORIES:$5 After 5,Arts & Entertainment
ATTACH;FMTTYPE=image/jpeg:https://hsvmuseum.org/wp-content/uploads/2024/04/Diana-Lucas-Headshot-Original-File.jpg
END:VEVENT
BEGIN:VEVENT
DTSTART;TZID=UTC:20240829T170000
DTEND;TZID=UTC:20240829T200000
DTSTAMP:20260424T023226
CREATED:20240703T172223Z
LAST-MODIFIED:20240821T195150Z
UID:18174-1724950800-1724961600@hsvmuseum.org
SUMMARY:$5 After 5 P.M. Musgrove Sessions
DESCRIPTION:Thursday\, August 29\nMusgrove Sessions – Old Time Music Band\n(performing in Shields Gallery at 6 p.m.)\nWine 5 p.m. – 8 p.m.\nMembers: Free | Non-members: $5\nJoin us for a relaxing Thursday evening at the Huntsville Museum of Art! Enjoy $5 admission from 5 p.m. to 8 p.m.\, and explore the latest exhibitions or revisit your favorite pieces from our permanent collection.\n Wine: Guests aged 21+ can purchase a glass of wine selected by Church Street Wine Shoppe\, adding the perfect touch to your museum experience.\n Live Music: At 6 p.m. \nThe Musgrove Sessions are an Old Time Music Band playing many Appalachian String Music tunes. Celtic music comprises much of what they play. Fiddle tunes with claw hammer banjo\, rhythm guitars and ukes make\nup the little happy group.
URL:https://hsvmuseum.org/eventcalendar/5-after-5-pm-9/
LOCATION:AL
CATEGORIES:$5 After 5,Arts & Entertainment
ATTACH;FMTTYPE=image/jpeg:https://hsvmuseum.org/wp-content/uploads/2024/07/Musgrove-picture-scaled.jpg
END:VEVENT
END:VCALENDAR