BEGIN:VCALENDAR
VERSION:2.0
PRODID:-//Huntsville Museum of Art - ECPv6.12.0//NONSGML v1.0//EN
CALSCALE:GREGORIAN
METHOD:PUBLISH
X-WR-CALNAME:Huntsville Museum of Art
X-ORIGINAL-URL:https://hsvmuseum.org
X-WR-CALDESC:Events for Huntsville Museum of Art
REFRESH-INTERVAL;VALUE=DURATION:PT1H
X-Robots-Tag:noindex
X-PUBLISHED-TTL:PT1H
BEGIN:VTIMEZONE
TZID:UTC
BEGIN:STANDARD
TZOFFSETFROM:+0000
TZOFFSETTO:+0000
TZNAME:UTC
DTSTART:20240101T000000
END:STANDARD
END:VTIMEZONE
BEGIN:VEVENT
DTSTART;TZID=UTC:20240905T170000
DTEND;TZID=UTC:20240905T200000
DTSTAMP:20260424T052119
CREATED:20240815T142303Z
LAST-MODIFIED:20240821T204647Z
UID:18349-1725555600-1725566400@hsvmuseum.org
SUMMARY:$5 After 5 P.M. Lowery Riethmaier
DESCRIPTION:Thursday\, September 5\nLowery Riethmaier \n(performing in Shields Gallery at 6 p.m.)\nWine 5 p.m. – 8 p.m.\nMembers: Free | Non-members: $5\nJoin us for a relaxing Thursday evening at the Huntsville Museum of Art! Enjoy $5 admission from 5 p.m. to 8 p.m.\, and explore the latest exhibitions or revisit your favorite pieces from our permanent collection.\n Wine: Guests aged 21+ can purchase a glass of wine selected by Church Street Wine Shoppe\, adding the perfect touch to your museum experience.\n Live Music: At 6 p.m.\, Lowery Riethmaier has performed acoustic covers and originals in the Huntsville area for years. Often referred to as “The Man of 1\,000 Songs” or “The King of  Yacht Rock”\, Lowery tackles several genres\, including Rock\, Alternative\, Pop\, Blues\, and Funk\, playing the hits in his own unique style.
URL:https://hsvmuseum.org/eventcalendar/5-after-5-pm-lowery-riethmaier/
LOCATION:AL
CATEGORIES:$5 After 5
ATTACH;FMTTYPE=image/jpeg:https://hsvmuseum.org/wp-content/uploads/2024/08/Lowery-pic-1-2.jpg
END:VEVENT
BEGIN:VEVENT
DTSTART;TZID=UTC:20240912T170000
DTEND;TZID=UTC:20240912T200000
DTSTAMP:20260424T052119
CREATED:20240815T143603Z
LAST-MODIFIED:20240815T163252Z
UID:18351-1726160400-1726171200@hsvmuseum.org
SUMMARY:$5 After 5 P.M. John Tinger
DESCRIPTION:Thursday\, September 12\nJohn Tinger\n(performing in Shields Gallery at 6 p.m.)\nWine 5 p.m. – 8 p.m.\nMembers: Free | Non-members: $5\nJoin us for a relaxing Thursday evening at the Huntsville Museum of Art! Enjoy $5 admission from 5 p.m. to 8 p.m.\, and explore the latest exhibitions or revisit your favorite pieces from our permanent collection.\n Wine: Guests aged 21+ can purchase a glass of wine selected by Church Street Wine Shoppe\, adding the perfect touch to your museum experience.\n Live Music: At 6 p.m. \n“To me\, the beauty of John Tinger’s music lies in its visual depth\, the wisdom of its texture. Each piece is a world in its own right\, evoking wide open spaces\, enchanted gardens\, eternal waters\, from which emerges the brilliant\, urging voice of a seasoned storyteller. John has become an inspiration to my work as a filmmaker.”\n— Chris Silber German/American screenwriter \n 
URL:https://hsvmuseum.org/eventcalendar/5-after-5-pm-john-tinger/
LOCATION:Huntsville Museum of Art\, 300 Church Street S.W.\, Huntsville\, AL\, 35801\, United States
CATEGORIES:$5 After 5
ATTACH;FMTTYPE=image/jpeg:https://hsvmuseum.org/wp-content/uploads/2024/08/John-Tinger-2.jpg
END:VEVENT
BEGIN:VEVENT
DTSTART;TZID=UTC:20240919T170000
DTEND;TZID=UTC:20240919T200000
DTSTAMP:20260424T052119
CREATED:20240815T144249Z
LAST-MODIFIED:20240815T144250Z
UID:18354-1726765200-1726776000@hsvmuseum.org
SUMMARY:$5 after 5 P.M. Phil Weaver
DESCRIPTION:Thursday\, September 19\nPhil Weaver – Classical Guitarist\n(performing in Shields Gallery at 6 p.m.)\nWine 5 p.m. – 8 p.m.\nMembers: Free | Non-members: $5\nJoin us for a relaxing Thursday evening at the Huntsville Museum of Art! Enjoy $5 admission from 5 p.m. to 8 p.m.\, and explore the latest exhibitions or revisit your favorite pieces from our permanent collection.\n Wine: Guests aged 21+ can purchase a glass of wine selected by Church Street Wine Shoppe\, adding the perfect touch to your museum experience.\n Live Music: At 6 p.m. \nPhil Weaver: Classical guitarist performing for over 30 years in the United States and abroad. He was the first guitarist to be awarded an individual artist’s fellowship from the Alabama State Council on the Arts\, and he is also an Adjunct Assistant Professor of Music at UAH\, where he directs the guitar program. He performed his European debut with solo concerts for the Nonsuch Guitar Society in London and the Old Malthouse Music Society in Sawbridgeworth. In addition to solo work\, he has performed concertos with orchestra and small ensembles including instrumentalists and vocalists. His collaborations with pianist Ingrid von Spakovsky include a CD on ACA Digital that received rave reviews in Fanfare and 20th Century Guitar magazines\, interviews on BBC York and Temple Public Radio\, a tour of England\, a New York City recital debut\, and performances throughout the U.S. Their CD Consonare has been broadcasted on New York City’s NPR affiliate WNYC\, WABE Atlanta\, and WLRH Huntsville.
URL:https://hsvmuseum.org/eventcalendar/5-after-5-p-m-phil-weaver/
LOCATION:Huntsville Museum of Art\, 300 Church Street S.W.\, Huntsville\, AL\, 35801\, United States
CATEGORIES:$5 After 5
ATTACH;FMTTYPE=image/jpeg:https://hsvmuseum.org/wp-content/uploads/2024/08/Phil-Weaver-new-2.jpg
END:VEVENT
BEGIN:VEVENT
DTSTART;TZID=UTC:20240926T170000
DTEND;TZID=UTC:20240926T200000
DTSTAMP:20260424T052119
CREATED:20240815T145941Z
LAST-MODIFIED:20240911T213332Z
UID:18356-1727370000-1727380800@hsvmuseum.org
SUMMARY:$5 after 5 P.M. Matthew Newell and Friends:  Celese Kendrick\, Jeremy Howe and Ellery Curtis
DESCRIPTION:Thursday\, September 26\nMatthew Newell and Friends: Celese Kendrick\, Jeremy Howe\, and Ellery Curtis (performing in Shields Gallery at 6 p.m.)Wine 5 p.m. – 8 p.m.\nMembers: Free | Non-members: $5\nJoin us for a relaxing Thursday evening at the Huntsville Museum of Art! Enjoy $5 admission from 5 p.m. to 8 p.m.\, and explore the latest exhibitions or revisit your favorite pieces from our permanent collection.\n Wine: Guests aged 21+ can purchase a glass of wine selected by Church Street Wine Shoppe\, adding the perfect touch to your museum experience.\n Live Music: At 6 p.m. \n \nMatthew Newell: A native of Crestview\, Florida and has recently returned to Huntsville\, Alabama with his wife\, after living in Stuttgart\, Germany for the past 3 years. He earned a Bachelor’s degree in Music Education from Stetson University in 2007 and a Master’s degree in Management from the Florida Institute of Technology in 2013 and was inducted into Delta Mu Delta\, and Phi Theta Kappa Honor Society. \nMatthew was an elementary school music teacher for three years in Pensacola\, Florida. He has served as Music Director and Music Chairman for the Athens Ward\, Madison Stake\, and Stuttgart Germany International Ward of The Church of Jesus Christ of Latter-Day Saints. He has performed with the Pensacola Opera company\, Opera Huntsville\, the Huntsville Community Chorus Association\, the Huntsville Christmas Festival Choir\, and the Huntsville Patriotic Choir featuring the Army Materiel Command Band. \n  \n \nCelese Sanders: Celese Sanders is a soprano based in Huntsville. She sings any chance she gets and is currently singing with Rocket Harmony\, Huntsville Community Chorus\, and as a staff singer at Huntsville First United Methodist Church. She has also performed with many local organizations in opera and musical theater. Some of her most notable roles include Despina in Cosi fan tutte\, Miss Pinkerton in The Old Maid and the Thief\, and Fiona in Shrek. She is a blessed mother of three children who support her and make her heart happy. \n  \nJeremy Howe is a tuba player and bass-baritone vocalist with over 30 years of professional experience performing throughout the world. During his twenty-year career as an Army Musician he performed for presidents\, on National Public Radio\, CNN\, and in more parades and ceremonies than he can count. While serving in assignments throughout the United States and overseas\, he has performed with and led a wide variety of instrumental and vocal ensembles ranging from traditional brass quintets and jazz bands to a funk-rock band “Rendezvous Groove” who was a featured ensemble at the 2011 W.C. Handy Festival in Florence\, Alabama\, and a barbershop quartet “7-Ball”\, which won the Army-wide “Ensemble of the Year” award for 2011.
URL:https://hsvmuseum.org/eventcalendar/5-after-5-matthew-newell-and-friends-sangeetha-ekambaram-celese-kendrick-jeremy-howe/
LOCATION:Huntsville Museum of Art\, 300 Church Street S.W.\, Huntsville\, AL\, 35801\, United States
CATEGORIES:$5 After 5
ATTACH;FMTTYPE=image/jpeg:https://hsvmuseum.org/wp-content/uploads/2024/04/Matthew-Newell.jpg
END:VEVENT
END:VCALENDAR