BEGIN:VCALENDAR
VERSION:2.0
PRODID:-//Huntsville Museum of Art - ECPv6.12.0//NONSGML v1.0//EN
CALSCALE:GREGORIAN
METHOD:PUBLISH
X-WR-CALNAME:Huntsville Museum of Art
X-ORIGINAL-URL:https://hsvmuseum.org
X-WR-CALDESC:Events for Huntsville Museum of Art
REFRESH-INTERVAL;VALUE=DURATION:PT1H
X-Robots-Tag:noindex
X-PUBLISHED-TTL:PT1H
BEGIN:VTIMEZONE
TZID:UTC
BEGIN:STANDARD
TZOFFSETFROM:+0000
TZOFFSETTO:+0000
TZNAME:UTC
DTSTART:20240101T000000
END:STANDARD
END:VTIMEZONE
BEGIN:VEVENT
DTSTART;TZID=UTC:20240829T170000
DTEND;TZID=UTC:20240829T200000
DTSTAMP:20260424T052422
CREATED:20240703T172223Z
LAST-MODIFIED:20240821T195150Z
UID:18174-1724950800-1724961600@hsvmuseum.org
SUMMARY:$5 After 5 P.M. Musgrove Sessions
DESCRIPTION:Thursday\, August 29\nMusgrove Sessions – Old Time Music Band\n(performing in Shields Gallery at 6 p.m.)\nWine 5 p.m. – 8 p.m.\nMembers: Free | Non-members: $5\nJoin us for a relaxing Thursday evening at the Huntsville Museum of Art! Enjoy $5 admission from 5 p.m. to 8 p.m.\, and explore the latest exhibitions or revisit your favorite pieces from our permanent collection.\n Wine: Guests aged 21+ can purchase a glass of wine selected by Church Street Wine Shoppe\, adding the perfect touch to your museum experience.\n Live Music: At 6 p.m. \nThe Musgrove Sessions are an Old Time Music Band playing many Appalachian String Music tunes. Celtic music comprises much of what they play. Fiddle tunes with claw hammer banjo\, rhythm guitars and ukes make\nup the little happy group.
URL:https://hsvmuseum.org/eventcalendar/5-after-5-pm-9/
LOCATION:AL
CATEGORIES:$5 After 5,Arts & Entertainment
ATTACH;FMTTYPE=image/jpeg:https://hsvmuseum.org/wp-content/uploads/2024/07/Musgrove-picture-scaled.jpg
END:VEVENT
END:VCALENDAR