BEGIN:VCALENDAR
VERSION:2.0
PRODID:-//Huntsville Museum of Art - ECPv6.12.0//NONSGML v1.0//EN
CALSCALE:GREGORIAN
METHOD:PUBLISH
X-WR-CALNAME:Huntsville Museum of Art
X-ORIGINAL-URL:https://hsvmuseum.org
X-WR-CALDESC:Events for Huntsville Museum of Art
REFRESH-INTERVAL;VALUE=DURATION:PT1H
X-Robots-Tag:noindex
X-PUBLISHED-TTL:PT1H
BEGIN:VTIMEZONE
TZID:UTC
BEGIN:STANDARD
TZOFFSETFROM:+0000
TZOFFSETTO:+0000
TZNAME:UTC
DTSTART:20250101T000000
END:STANDARD
END:VTIMEZONE
BEGIN:VEVENT
DTSTART;TZID=UTC:20250109T170000
DTEND;TZID=UTC:20250109T200000
DTSTAMP:20260420T144443
CREATED:20241212T165226Z
LAST-MODIFIED:20241218T205403Z
UID:19413-1736442000-1736452800@hsvmuseum.org
SUMMARY:$5 After 5 P.M. with singer-songwriter Alan Little
DESCRIPTION:Thursday\, January 9 \n  \nLive music with Alan Little 6 p.m. – 7 p.m.\nWine 5 p.m. – 8 p.m. \nMembers: Free | Non-members: $5 \nJoin us for a enchanting Thursday evening at the Huntsville Museum of Art! Enjoy $5 admission from 5 p.m. to 8 p.m.\, and explore the latest exhibitions or revisit your favorite pieces from our permanent collection.\n Wine: Guests aged 21+ can purchase a glass of wine selected by Church Street Wine Shoppe\, adding the perfect touch to your museum experience.\n Live Music: At 6 p.m. \nAlan Little\, is a seasoned multi-instrumentalist and singer-songwriter who has been a dynamic presence in the Huntsville music scene since he first stepped onto the stage at sixteen. Known for his distinctive fingerpicking style\, Alan’s approach to music is deeply enriched by his extensive study of West African drumming\, which infuses his compositions with rhythmic complexity and vibrant textures. A familiar face at local venues\, Alan continues to captivate audiences with his heartfelt performances and innovative sound.
URL:https://hsvmuseum.org/eventcalendar/5-after-5-p-m-with-singer-songwriter-alan-little/
LOCATION:Huntsville Museum of Art\, 300 Church Street S.W.\, Huntsville\, AL\, 35801\, United States
CATEGORIES:$5 After 5
ATTACH;FMTTYPE=image/png:https://hsvmuseum.org/wp-content/uploads/2024/12/Alan-Little-.png
END:VEVENT
END:VCALENDAR