BEGIN:VCALENDAR
VERSION:2.0
PRODID:-//Huntsville Museum of Art - ECPv6.12.0//NONSGML v1.0//EN
CALSCALE:GREGORIAN
METHOD:PUBLISH
X-ORIGINAL-URL:https://hsvmuseum.org
X-WR-CALDESC:Events for Huntsville Museum of Art
REFRESH-INTERVAL;VALUE=DURATION:PT1H
X-Robots-Tag:noindex
X-PUBLISHED-TTL:PT1H
BEGIN:VTIMEZONE
TZID:UTC
BEGIN:STANDARD
TZOFFSETFROM:+0000
TZOFFSETTO:+0000
TZNAME:UTC
DTSTART:20220101T000000
END:STANDARD
END:VTIMEZONE
BEGIN:VEVENT
DTSTART;TZID=UTC:20220128T100000
DTEND;TZID=UTC:20220128T160000
DTSTAMP:20260421T180301
CREATED:20211208T191656Z
LAST-MODIFIED:20211208T191656Z
UID:11298-1643364000-1643385600@hsvmuseum.org
SUMMARY:High School and Adult Classes – Drawing in Charcoal & Conté
DESCRIPTION:Drawing in Charcoal & Conté\nJanuary 28 & 29 (Friday & Saturday) | 10 a.m.-4 p.m. (one-hour lunch break)\n$140 Members | $155 Non-members\nSkill Level: All\nRobert Bean\nREGISTER FOR CLASS\n\n\nThis class introduces the fundamentals of drawing. Learn to create bold\, dramatic sketches and drawings with charcoal and conté. More versatile and expressive than pencil\, the rich textures and tones of charcoal and conté are perfect for landscapes and still life drawings. Processes taught include gesture drawing\, contour drawing\, and full-value drawing. Space is limited to 8 students.
URL:https://hsvmuseum.org/eventcalendar/high-school-and-adult-classes-drawing-in-charcoal-conte/
LOCATION:Huntsville Museum of Art\, 300 Church Street S.W.\, Huntsville\, AL\, 35801\, United States
CATEGORIES:Academy Classes
END:VEVENT
END:VCALENDAR