BEGIN:VCALENDAR
VERSION:2.0
PRODID:-//Huntsville Museum of Art - ECPv6.12.0//NONSGML v1.0//EN
CALSCALE:GREGORIAN
METHOD:PUBLISH
X-WR-CALNAME:Huntsville Museum of Art
X-ORIGINAL-URL:https://hsvmuseum.org
X-WR-CALDESC:Events for Huntsville Museum of Art
REFRESH-INTERVAL;VALUE=DURATION:PT1H
X-Robots-Tag:noindex
X-PUBLISHED-TTL:PT1H
BEGIN:VTIMEZONE
TZID:UTC
BEGIN:STANDARD
TZOFFSETFROM:+0000
TZOFFSETTO:+0000
TZNAME:UTC
DTSTART:20230101T000000
END:STANDARD
END:VTIMEZONE
BEGIN:VEVENT
DTSTART;TZID=UTC:20230208T100000
DTEND;TZID=UTC:20230208T120000
DTSTAMP:20260420T143523
CREATED:20221205T185503Z
LAST-MODIFIED:20221205T185503Z
UID:14782-1675850400-1675857600@hsvmuseum.org
SUMMARY:Art for Homeschooled Students – 3-D Art\, Ages 14-18
DESCRIPTION:3-D Art! Ages 14-18\nJanuary 18\, 25\, February 1\, 8\, 15\, 22 (Wednesdays) | 10 a.m. – 12 p.m.\n$135 Members | $150 Non-Members\nJessica Nunno\nRegister here! \nCreate three-dimensional forms to explore mass\, space\, texture\, and the expressive potential of the medium. Make sketches for studio projects\, and strengthen technical skills while working with clay\, wood\, and wire. Spring Drawing Session for Homeschooled classes will be offered in March through May 2023. Space is limited to 10 students. All New Projects!
URL:https://hsvmuseum.org/eventcalendar/art-for-homeschooled-students-3-d-art-ages-14-18-2-2023-02-08/
LOCATION:Huntsville Museum of Art\, 300 Church Street S.W.\, Huntsville\, AL\, 35801\, United States
CATEGORIES:Academy Classes
END:VEVENT
BEGIN:VEVENT
DTSTART;TZID=UTC:20230208T154500
DTEND;TZID=UTC:20230208T171500
DTSTAMP:20260420T143523
CREATED:20221206T170910Z
LAST-MODIFIED:20221206T170910Z
UID:14807-1675871100-1675876500@hsvmuseum.org
SUMMARY:After School Classes – Drawing: Ages 9+
DESCRIPTION:Drawing: Ages 9+\nJanuary 18\, 25\, February 1\, 8\, 15\, 22 (6 Wednesdays) | 3:45 – 5:15 pm\n$90 Members | $105 Non-members\nAshton Huffstetler\nRegister Here! \nLearn about the building blocks that make up every piece of art: line\, shape\, form\, space\, texture\, and color. We’ll cover the elements of art through a range of drawing approaches\, techniques\, and materials. Students will be introduced to the works of well-known artists and explore each art element by creating their own unique drawing.
URL:https://hsvmuseum.org/eventcalendar/after-school-classes-drawing-ages-9-2023-02-08/
LOCATION:AL
CATEGORIES:Academy Classes
END:VEVENT
END:VCALENDAR