BEGIN:VCALENDAR
VERSION:2.0
PRODID:-//Huntsville Museum of Art - ECPv6.12.0//NONSGML v1.0//EN
CALSCALE:GREGORIAN
METHOD:PUBLISH
X-WR-CALNAME:Huntsville Museum of Art
X-ORIGINAL-URL:https://hsvmuseum.org
X-WR-CALDESC:Events for Huntsville Museum of Art
REFRESH-INTERVAL;VALUE=DURATION:PT1H
X-Robots-Tag:noindex
X-PUBLISHED-TTL:PT1H
BEGIN:VTIMEZONE
TZID:UTC
BEGIN:STANDARD
TZOFFSETFROM:+0000
TZOFFSETTO:+0000
TZNAME:UTC
DTSTART:20230101T000000
END:STANDARD
END:VTIMEZONE
BEGIN:VEVENT
DTSTART;TZID=UTC:20230209T103000
DTEND;TZID=UTC:20230209T120000
DTSTAMP:20260420T130937
CREATED:20221205T191038Z
LAST-MODIFIED:20221205T191038Z
UID:14794-1675938600-1675944000@hsvmuseum.org
SUMMARY:Art for Homeschooled Students – 3-D Art: Ceramics & Sculpture! Ages 5-8
DESCRIPTION:3-D Art: Ceramics & Sculpture! Ages 5-8\nJanuary 19\, 26\, February 2\, 9\, 16\, 23 (Thursdays) | 10:30 a.m. – 12 p.m.\n$90 Members | $105 Non-Members\nAnna Sue Courtney\nRegister here! \nThe art program introduces clay handbuilding techniques –  pinch\, coil\, and slab and sculptural materials – into the homeschool curriculum. Subject matter includes vessels and sculptural works. Spring Drawing Session for Homeschooled classes will be offered in March through May 2023. All New Projects! Space is limited to 10 students.
URL:https://hsvmuseum.org/eventcalendar/art-for-homeschooled-students-3-d-art-ceramics-sculpture-ages-5-8-4-2023-02-09/
LOCATION:Huntsville Museum of Art\, 300 Church Street S.W.\, Huntsville\, AL\, 35801\, United States
CATEGORIES:Academy Classes
END:VEVENT
BEGIN:VEVENT
DTSTART;TZID=UTC:20230209T160000
DTEND;TZID=UTC:20230209T173000
DTSTAMP:20260420T130937
CREATED:20221206T171255Z
LAST-MODIFIED:20221206T171255Z
UID:14819-1675958400-1675963800@hsvmuseum.org
SUMMARY:After School Classes – Drawing & Painting: More than Meets Your Eye! Ages 5-8
DESCRIPTION:Drawing & Painting: More than Meets Your Eye! Ages 5-8\nJanuary 19\, 26\, February 2\, 9\, 16\, 23 (6 Thursdays) | 4 – 5:30 pm\n$90 Members | $105 Non-members\nShanna Graves\nRegister Here! \nAre you a doodler and a sketcher? Experiment with charcoal\, pastel\, paint\, ink\, and a variety of drawing and painting surfaces. Capture what you see in rough sketches and more finished paintings and drawings inspired by works of art and the museum’s galleries. Draw from your imagination!
URL:https://hsvmuseum.org/eventcalendar/after-school-classes-drawing-painting-more-than-meets-your-eye-ages-5-8-2023-02-09/
LOCATION:Huntsville Museum of Art\, 300 Church Street S.W.\, Huntsville\, AL\, 35801\, United States
CATEGORIES:Academy Classes
END:VEVENT
BEGIN:VEVENT
DTSTART;TZID=UTC:20230209T160000
DTEND;TZID=UTC:20230209T173000
DTSTAMP:20260420T130937
CREATED:20221206T171417Z
LAST-MODIFIED:20221206T171417Z
UID:14825-1675958400-1675963800@hsvmuseum.org
SUMMARY:After School Classes – Ceramics: Handbuidling & Wheel Throwing Techniques\, Ages 9+
DESCRIPTION:Ceramics: Handbuidling & Wheel Throwing Techniques\, Ages 9+\nJanuary 19\, 26\, February 2\, 9\, 16\, 23 (6 Thursdays) | 4 – 5:30 pm\n$90 Members | $105 Non-members\nLiza Harrison\nRegister Here! \nExplore pinch\, coil\, slab construction and basic glazing methods. Wheel throwing techniques will be introduced. Space is limited to 8 students.
URL:https://hsvmuseum.org/eventcalendar/after-school-classes-ceramics-handbuidling-wheel-throwing-techniques-ages-9-2023-02-09/
LOCATION:Huntsville Museum of Art\, 300 Church Street S.W.\, Huntsville\, AL\, 35801\, United States
CATEGORIES:Academy Classes
END:VEVENT
BEGIN:VEVENT
DTSTART;TZID=UTC:20230209T180000
DTEND;TZID=UTC:20230209T200000
DTSTAMP:20260420T130937
CREATED:20221206T174714Z
LAST-MODIFIED:20221206T174714Z
UID:14843-1675965600-1675972800@hsvmuseum.org
SUMMARY:High School and Adult Classes – Watercolor Sketching
DESCRIPTION:Watercolor Sketching\nJanuary 19\, 26\, February 2\, 9\, 16\, 23 (6 Thursdays) | 6 – 8 p.m.\nMembers: $185 | Non-Members: $200\nSkill Level: All\nJennifer Redstreake\nRegister Here \nWatercolor sketching refers to any watercolor work that’s completed quickly\, with a loose\, informal style. It’s often used as a “warm up” for a bigger\, more detailed painting\, but it’s also a great practice for any on-the-go artist. This small-scale\, loose sketching approach is all about quick observation and capturing what you see on paper. Materials included. Space is limited to 8 students.
URL:https://hsvmuseum.org/eventcalendar/high-school-and-adult-classes-watercolor-sketching-4-2023-02-09/
LOCATION:Huntsville Museum of Art\, 300 Church Street S.W.\, Huntsville\, AL\, 35801\, United States
CATEGORIES:Academy Classes
END:VEVENT
BEGIN:VEVENT
DTSTART;TZID=UTC:20230209T180000
DTEND;TZID=UTC:20230209T203000
DTSTAMP:20260420T130937
CREATED:20221206T174845Z
LAST-MODIFIED:20221206T174845Z
UID:14849-1675965600-1675974600@hsvmuseum.org
SUMMARY:High School and Adult Classes – Ceramics: Handbuilding & Wheel Throwing
DESCRIPTION:Ceramics: Handbuilding & Wheel Throwing\nJanuary 19\, 26\, February 2\, 9\, 16\, 23\, March 2 (7 Thursdays) | 6 – 8:30 p.m.\nMembers: $230 | Non-Members: $245\nSkill Level: All\nGreg Datcher\nClass is full. \nExplore the use of glazes\, slips and sculpting techniques to create expressive and individual works\, such as mugs and vessel forms. Space is limited to 8 students.
URL:https://hsvmuseum.org/eventcalendar/high-school-and-adult-classes-ceramics-handbuilding-wheel-throwing-9-2023-02-09/
LOCATION:AL
CATEGORIES:Academy Classes
END:VEVENT
END:VCALENDAR