BEGIN:VCALENDAR
VERSION:2.0
PRODID:-//Huntsville Museum of Art - ECPv6.12.0//NONSGML v1.0//EN
CALSCALE:GREGORIAN
METHOD:PUBLISH
X-WR-CALNAME:Huntsville Museum of Art
X-ORIGINAL-URL:https://hsvmuseum.org
X-WR-CALDESC:Events for Huntsville Museum of Art
REFRESH-INTERVAL;VALUE=DURATION:PT1H
X-Robots-Tag:noindex
X-PUBLISHED-TTL:PT1H
BEGIN:VTIMEZONE
TZID:UTC
BEGIN:STANDARD
TZOFFSETFROM:+0000
TZOFFSETTO:+0000
TZNAME:UTC
DTSTART:20260101T000000
END:STANDARD
END:VTIMEZONE
BEGIN:VEVENT
DTSTART;TZID=UTC:20260315T140000
DTEND;TZID=UTC:20260315T150000
DTSTAMP:20260420T181048
CREATED:20260116T165320Z
LAST-MODIFIED:20260116T165320Z
UID:25377-1773583200-1773586800@hsvmuseum.org
SUMMARY:First Look Docent Tour
DESCRIPTION:Sunday\, March 15  \n2 p.m. \n  \nFirst Look is an opportunity for docents and visitors to engage with the Huntsville Museum of Art’s new exhibitions and artwork. During this time you will find our Docents stationed by various works of art\, ready to answer any questions you have about the piece. On the first Sunday of every month\, docents will be stationed by a selected work of art to guide visitors through looking at the work\, answering questions and providing additional details and facts about the piece. \nVisitors are encouraged to ask questions and interact with as many pieces and docents as they want.
URL:https://hsvmuseum.org/eventcalendar/first-look-docent-tour-4/
LOCATION:Huntsville Museum of Art\, 300 Church Street S.W.\, Huntsville\, AL\, 35801\, United States
CATEGORIES:Docent-led Gallery Walk
ATTACH;FMTTYPE=image/png:https://hsvmuseum.org/wp-content/uploads/2026/01/First-Look-March-26.png
END:VEVENT
END:VCALENDAR