BEGIN:VCALENDAR
VERSION:2.0
PRODID:-//Huntsville Museum of Art - ECPv6.12.0//NONSGML v1.0//EN
CALSCALE:GREGORIAN
METHOD:PUBLISH
X-ORIGINAL-URL:https://hsvmuseum.org
X-WR-CALDESC:Events for Huntsville Museum of Art
REFRESH-INTERVAL;VALUE=DURATION:PT1H
X-Robots-Tag:noindex
X-PUBLISHED-TTL:PT1H
BEGIN:VTIMEZONE
TZID:UTC
BEGIN:STANDARD
TZOFFSETFROM:+0000
TZOFFSETTO:+0000
TZNAME:UTC
DTSTART:20230101T000000
END:STANDARD
END:VTIMEZONE
BEGIN:VEVENT
DTSTART;TZID=UTC:20230423T120000
DTEND;TZID=UTC:20230423T170000
DTSTAMP:20260421T145702
CREATED:20220601T162256Z
LAST-MODIFIED:20220601T162256Z
UID:13314-1682251200-1682269200@hsvmuseum.org
SUMMARY:CLOSING DAY: YAM 2023
DESCRIPTION:Closing Day\nYAM 2023: Exhibition for Youth Art Month\nSunday\, April 23 | 12 p.m. – 5 p.m.\nEnjoy a last chance to view YAM 2023: Exhibition for Youth Art Month. This exhibition is an annual gathering of exuberant artwork from North Alabama K-12 students\, organized in observance of Youth Art Month. It is accompanied by the annual Visual Arts Achievement exhibition\, which presents the blue ribbon finalist artworks of middle and high school students in Alabama’s 5th Congressional District.
URL:https://hsvmuseum.org/eventcalendar/closing-day-yam-2023/
LOCATION:AL
CATEGORIES:Exhibition Closing
END:VEVENT
END:VCALENDAR