BEGIN:VCALENDAR
VERSION:2.0
PRODID:-//Huntsville Museum of Art - ECPv6.12.0//NONSGML v1.0//EN
CALSCALE:GREGORIAN
METHOD:PUBLISH
X-ORIGINAL-URL:https://hsvmuseum.org
X-WR-CALDESC:Events for Huntsville Museum of Art
REFRESH-INTERVAL;VALUE=DURATION:PT1H
X-Robots-Tag:noindex
X-PUBLISHED-TTL:PT1H
BEGIN:VTIMEZONE
TZID:UTC
BEGIN:STANDARD
TZOFFSETFROM:+0000
TZOFFSETTO:+0000
TZNAME:UTC
DTSTART:20260101T000000
END:STANDARD
END:VTIMEZONE
BEGIN:VEVENT
DTSTART;TZID=UTC:20260102T190000
DTEND;TZID=UTC:20260102T220000
DTSTAMP:20260423T142040
CREATED:20251111T191638Z
LAST-MODIFIED:20251112T174503Z
UID:25103-1767380400-1767391200@hsvmuseum.org
SUMMARY:DJ Night Sponsored by McDonalds
DESCRIPTION:Join us for DJ Night sponsored by McDonalds on Friday\, January 2 from 7-10 p.m. \n  \nEnjoy your time on the ice with a live DJ by Metroplian Disc Jockey
URL:https://hsvmuseum.org/eventcalendar/dj-night-sponsored-by-mcdonalds-2/
LOCATION:Skating in the Park\, 300 Church St SW\, Huntsville\, AL\, 35801\, United States
CATEGORIES:Skating in the Park
ATTACH;FMTTYPE=image/png:https://hsvmuseum.org/wp-content/uploads/2025/11/DJ-jan-2-26.png
END:VEVENT
BEGIN:VEVENT
DTSTART;TZID=UTC:20260104T120000
DTEND;TZID=UTC:20260104T200000
DTSTAMP:20260423T142040
CREATED:20251226T183815Z
LAST-MODIFIED:20251226T183815Z
UID:25253-1767528000-1767556800@hsvmuseum.org
SUMMARY:Skating in the Park FINAL DAY
DESCRIPTION:Join us for one last skate! \nSkating in the Park will be open Sunday\, January 4 from 12 – 8 pm for our final day of the season! \nSo lace up those skates and get ready for one more day of fun\, memoires and ice skating. \n  \nThank you to everyone who has made this season incredible. We can’t wait to see you again!
URL:https://hsvmuseum.org/eventcalendar/skating-in-the-park-final-day-2/
LOCATION:Skating in the Park\, 300 Church St SW\, Huntsville\, AL\, 35801\, United States
CATEGORIES:Skating in the Park
ATTACH;FMTTYPE=image/png:https://hsvmuseum.org/wp-content/uploads/2025/12/Final-Day-2025-1.png
END:VEVENT
END:VCALENDAR