BEGIN:VCALENDAR
VERSION:2.0
PRODID:-//Huntsville Museum of Art - ECPv6.12.0//NONSGML v1.0//EN
CALSCALE:GREGORIAN
METHOD:PUBLISH
X-ORIGINAL-URL:https://hsvmuseum.org
X-WR-CALDESC:Events for Huntsville Museum of Art
REFRESH-INTERVAL;VALUE=DURATION:PT1H
X-Robots-Tag:noindex
X-PUBLISHED-TTL:PT1H
BEGIN:VTIMEZONE
TZID:UTC
BEGIN:STANDARD
TZOFFSETFROM:+0000
TZOFFSETTO:+0000
TZNAME:UTC
DTSTART:20250101T000000
END:STANDARD
END:VTIMEZONE
BEGIN:VEVENT
DTSTART;VALUE=DATE:20250225
DTEND;VALUE=DATE:20250302
DTSTAMP:20260421T161701
CREATED:20250129T173057Z
LAST-MODIFIED:20250129T173057Z
UID:23067-1740441600-1740873599@hsvmuseum.org
SUMMARY:Huntsville Museum of Art’s 34th Annual Gala: A Celebration of Art and Community
DESCRIPTION:Considered one of Huntsville’s premiere events\, the Huntsville Museum of Art’s Annual Gala\, presented by the Gala Committee\, is a tangible force aiding the Museum in its effort to bring people and art together in our community. The Gala Committee has lent well over $4 million in support of the Museum throughout its 34-year history. \nThe Annual Gala consists of three separate events which each offer unique cultural activities to attract a variety of patrons\, both young and old. These three events are tied together by the month-long Gala Art Exhibition! This year’s featured artist is Emily Ozier. Leading up to the 34th Annual Gala\, the silent auction art\, trips\, parties and treasures will be on display in the galleries and available for immediate purchase. You can secure your favorite item before the Gala and take it home after the event to enjoy forever! \n  \nLearn more about Gala by clicking the image below!
URL:https://hsvmuseum.org/eventcalendar/huntsville-museum-of-arts-34th-annual-gala-a-celebration-of-art-and-community/
LOCATION:Huntsville Museum of Art\, 300 Church Street S.W.\, Huntsville\, AL\, 35801\, United States
ATTACH;FMTTYPE=image/png:https://hsvmuseum.org/wp-content/uploads/2025/01/GALA-2025-1-1.png
END:VEVENT
BEGIN:VEVENT
DTSTART;VALUE=DATE:20250302
DTEND;VALUE=DATE:20250831
DTSTAMP:20260421T161701
CREATED:20250131T185414Z
LAST-MODIFIED:20250625T165852Z
UID:23648-1740873600-1756598399@hsvmuseum.org
SUMMARY:Temporarily closed due to HVAC
DESCRIPTION:The Board of Trustees and Christopher J. Madkour\, Executive Director of the Huntsville Museum of Art\, have announced that the museum will temporarily close its doors from March 2 through Summer 2025 to install a state-of-the-art HVAC system. This crucial upgrade highlights the museum’s dedication to protecting its priceless artworks and ensuring that visitors have the best possible experience. \n  \n  \nStay Connected \n\nFollow the museum on social media for updates\, behind-the-scenes glimpses of the upgrade\, and sneak peeks of upcoming exhibitions.\nVisit the museum’s website to learn more about the project and discover ways to continue supporting the museum during this period.\nParticipate in off-site community events and programs designed to keep the spirit of art alive while the museum is temporarily closed.\n\nMore information is available at hsvmuseum.org/about-the-museum/temporarily-closed-information/
URL:https://hsvmuseum.org/eventcalendar/temporarily-closed-due-to-hvac/
LOCATION:Huntsville Museum of Art\, 300 Church Street S.W.\, Huntsville\, AL\, 35801\, United States
END:VEVENT
BEGIN:VEVENT
DTSTART;TZID=UTC:20250322T110000
DTEND;TZID=UTC:20250322T130000
DTSTAMP:20260421T161701
CREATED:20250304T185404Z
LAST-MODIFIED:20250304T185404Z
UID:23948-1742641200-1742648400@hsvmuseum.org
SUMMARY:Drop In & CREATE: Fun with Fiber Arts: Paper Weavings
DESCRIPTION:🌈 Drop-In & CREATE Saturdays: Fun with Fiber Arts: Paper Weavings \n \nHuntsville Museum of Art is partnering with Alabama Constitution Hall Park. \n \nMarch 22: Fun with Fiber Arts: Paper Weavings \nCreate your own artistic weaving using paper\, string\, pipe cleaners\, yarn\, and other materials. \nArt demonstration with Ellen Thomas with The Chilly Dog: loom weaving techniques. \n🕚 Time: 11 a.m. – 1 p.m.\n📍 Where: Alabama Constitution Hall Park (109 Gates Avenue downtown Huntsville) \n🎉 What to Expect: \n🖌️ Engaging and interactive art-making activities for families.\n🌟 Spark your creativity and imagination.\n🎨 Make and take home a fantastic work of art! \n👨‍👩‍👧‍👦 Admission: FREE for parents/guardians and children! \n✨ Don’t miss this chance to explore your artistic side! No reservations necessary. Join us and create memorable art together! \nProudly Sponsored by Rotary Club of Greater Huntsville\, Huntsville Museum of Art Guild and Alabama Constitution Hall Park \n \nFor more information\, visit Museum Website \n  \n 
URL:https://hsvmuseum.org/eventcalendar/drop-in-create-fun-with-fiber-arts-paper-weavings/
LOCATION:Alabama Constitution Hall Park\, 109 Gates Avenue\, Downtown Huntsville
CATEGORIES:Academy Classes,Drop-in & CREATE
ATTACH;FMTTYPE=image/png:https://hsvmuseum.org/wp-content/uploads/2025/03/March-222025-1.png
END:VEVENT
END:VCALENDAR