BEGIN:VCALENDAR
VERSION:2.0
PRODID:-//Huntsville Museum of Art - ECPv6.12.0//NONSGML v1.0//EN
CALSCALE:GREGORIAN
METHOD:PUBLISH
X-ORIGINAL-URL:https://hsvmuseum.org
X-WR-CALDESC:Events for Huntsville Museum of Art
REFRESH-INTERVAL;VALUE=DURATION:PT1H
X-Robots-Tag:noindex
X-PUBLISHED-TTL:PT1H
BEGIN:VTIMEZONE
TZID:UTC
BEGIN:STANDARD
TZOFFSETFROM:+0000
TZOFFSETTO:+0000
TZNAME:UTC
DTSTART:20250101T000000
END:STANDARD
END:VTIMEZONE
BEGIN:VEVENT
DTSTART;VALUE=DATE:20250831
DTEND;VALUE=DATE:20260615
DTSTAMP:20260421T163139
CREATED:20251002T172507Z
LAST-MODIFIED:20251002T172612Z
UID:24979-1756598400-1781481599@hsvmuseum.org
SUMMARY:New Realism
DESCRIPTION:On View Till June 14\, 2026 \n 
URL:https://hsvmuseum.org/eventcalendar/new-realism/
LOCATION:Huntsville Museum of Art\, 300 Church Street S.W.\, Huntsville\, AL\, 35801\, United States
ATTACH;FMTTYPE=image/jpeg:https://hsvmuseum.org/wp-content/uploads/2025/10/Edwards-Beth-Hydrangea-II-201712-700x441-1.jpg
END:VEVENT
BEGIN:VEVENT
DTSTART;VALUE=DATE:20260321
DTEND;VALUE=DATE:20260824
DTSTAMP:20260421T163139
CREATED:20260303T181641Z
LAST-MODIFIED:20260303T181732Z
UID:25531-1774051200-1787529599@hsvmuseum.org
SUMMARY:A Beautiful Despair
DESCRIPTION:On View March 21 – August 23
URL:https://hsvmuseum.org/eventcalendar/a-beautiful-despair/
LOCATION:Huntsville Museum of Art\, 300 Church Street S.W.\, Huntsville\, AL\, 35801\, United States
CATEGORIES:Exhibition Opening
ATTACH;FMTTYPE=image/png:https://hsvmuseum.org/wp-content/uploads/2026/03/image-8.png
END:VEVENT
BEGIN:VEVENT
DTSTART;VALUE=DATE:20260417
DTEND;VALUE=DATE:20260706
DTSTAMP:20260421T163139
CREATED:20251002T175034Z
LAST-MODIFIED:20251002T175034Z
UID:24985-1776384000-1783295999@hsvmuseum.org
SUMMARY:Extinct in the Wild
DESCRIPTION:On View April 17 – July 5\, 2026 \n 
URL:https://hsvmuseum.org/eventcalendar/extinct-in-the-wild/
LOCATION:Huntsville Museum of Art\, 300 Church Street S.W.\, Huntsville\, AL\, 35801\, United States
ATTACH;FMTTYPE=image/jpeg:https://hsvmuseum.org/wp-content/uploads/2025/10/Brewer-Adrian-Louisiana-Clouds-199502-300x227-1.jpg
END:VEVENT
BEGIN:VEVENT
DTSTART;TZID=UTC:20260515T100000
DTEND;TZID=UTC:20260515T120000
DTSTAMP:20260421T163139
CREATED:20251226T193140Z
LAST-MODIFIED:20251226T193149Z
UID:25264-1778839200-1778846400@hsvmuseum.org
SUMMARY:Artsy Tots- Van Gogh Starry Night Folk Paintings
DESCRIPTION:Join the Huntsville Museum of Art Academy for Artsy Tots as we make Van Gogh Starry Night Folk Paintings \n  \nMay 15 from 10:00 – 10: 45 or 11:00 – 11:45 \nRegistration is required \nThe program introduces toddlers between the ages of 2 and 3 to art and to the Museum through artful short stories\, gallery play activities\, and an art activity. The program helps with color recognition\, fine motor skills\, hand-eye coordination and more! The program will be held in the Stender Family Interactive Education Galleries.
URL:https://hsvmuseum.org/eventcalendar/artsy-tots-van-gogh-starry-night-folk-paintings/
LOCATION:Huntsville Museum of Art\, 300 Church Street S.W.\, Huntsville\, AL\, 35801\, United States
CATEGORIES:Artsy Tots!
ATTACH;FMTTYPE=image/png:https://hsvmuseum.org/wp-content/uploads/2025/12/AT-May-15-26.png
END:VEVENT
BEGIN:VEVENT
DTSTART;TZID=UTC:20260516T110000
DTEND;TZID=UTC:20260516T130000
DTSTAMP:20260421T163139
CREATED:20251226T201108Z
LAST-MODIFIED:20251226T201130Z
UID:25273-1778929200-1778936400@hsvmuseum.org
SUMMARY:Drop-In & CREATE: Puffy Clouds!
DESCRIPTION:Join the Huntsville Museum of Art Academy for Drop-In & CREATE Saturdays for Puffy Clouds! \nSaturday\, May 16. \n  \nProudly Sponsored by the Huntsville Museum of Art Guild and Rotary Club of Greater Huntsville \n  \nWho:  Appropriate for the entire family! \nWhat:  A hands-on art activity (no reservations necessary) \nWhen: One Saturday of each month\, 11:00 a.m. until 1:00 p.m. \nWhere: Stender Family Interactive Education Galleries – ART LAB \nCost: FREE admission for parents/guardians and children
URL:https://hsvmuseum.org/eventcalendar/drop-in-create-puffy-clouds/
LOCATION:Huntsville Museum of Art\, 300 Church Street S.W.\, Huntsville\, AL\, 35801\, United States
CATEGORIES:Drop-in & CREATE
ATTACH;FMTTYPE=image/png:https://hsvmuseum.org/wp-content/uploads/2025/12/DC-May-16-26.png
END:VEVENT
END:VCALENDAR